Workbook

Sheet Perfo DR480 NR
A1: F-GNNR | F1: Performances décollage et atterrissage DR400-180
A3: 1. Renseigner les cases vertes 2. Lire les performances | G3: Attention, ce fichier n'est pas fourni par le constructeur. Il ne doit pas être le seul outil de préparation des performances de votre vol. Référez-vous au manuel de vol de l'avion afin de vérifier systématiquement les performances calculées.
A5: Altitude aérodrome (ft QNH) | B5: QNH | C5: Altitude pression (ft) | E5: Masse avion (kg)
A6: 0 | B6: 1013 | C6: =((1013-B6)*(IF(A6<3000,28,30))+A6) -> 0 | E6: 1100
C7: =IF(C6>8000,"Dépassement altitude ! (Max=8000ft)","zp max = 8000ftSi<0 : calcul fait avec 0ft") -> zp max = 8000ftSi<0 : calcul fait avec 0ft | E7: =IF(E6<=1100,"Maxi T/O 1100 Kg Maxi LND 1045 Kg","Masse maxi dépassée") -> Maxi T/O 1100 Kg Maxi LND 1045 Kg
A8: Température (°C) | B8: ISA (°C) | C8: ΔISA (°C) | E8: Δ ISA max du manuel de vol = +/-20°C ("ISA-20" et "ISA+20")
A9: 10 | B9: =15+(($C$6/1000)*(-2)) -> 15 | C9: =IF(AND(A9-B9>=-20,A9-B9<=20),A9-B9,"ERROR") -> -5
G10: Performances brutes de décollage | I10: Performances brutes d'atterrissage
A11: Sens du vent [menu déroulant] | B11: Vitesse du vent (kt) Composante face ou arrière | C11: Type de piste [menu déroulant] | E11: Nb : les corrections pour pistes mouillées et pistes en pente ne sont pas données par le manuel de vol. | G11: Distance de roulement (m) | H11: Distance de décollage (m) (passage 50ft) | I11: Distance de roulement (m) | J11: Distance d'atterrissage (m) (passage 50ft)
A12: Face | B12: 0 | C12: Dure | G12: =IFERROR('Calculs DR480'!AE10,"ALT or TEMP out of range!") -> 241.25 | H12: =IFERROR('Calculs DR480'!AF10,"ALT or TEMP out of range!") -> 497.5 | I12: =IFERROR('Calculs DR480'!AG10,"ALT or TEMP out of range!") -> 258.0625 | J12: =IFERROR('Calculs DR480'!AH10,"ALT or TEMP out of range!") -> 522.5
C13: Piste sèche
A14: Performances brutes = celles données par le manuel de vol. Elles correspondent à un avion neuf et réalisées par un pilote d'essai dans des conditions différentes de notre utilisation normale. | G14: Performances de décollage factorisées (+30%) | I14: Performances d'atterrissage factorisées (+30% )
A15: Il est conseillé de factoriser ces valeurs pour plus de sécurité. Au pilote de décider. Le tableau ci-contre majore les distances de 30% au décollage et de 30% sur le roulage à l'atterrissage. | G15: =G12*1.3 -> 313.625 | H15: =H12*1.3 -> 646.75 | I15: =I12*1.3 -> 335.48125 | J15: =J12*1.3 -> 679.25
H16: Comparer à TODA | J16: Comparer à LDA

Sheet Calculs DR480
A1: F-GNNR
A4: Performances de décollage | O4: Performances d'atterrissage
AD5: Prise en compte du vent et type de piste
D6: Masse (Kg) | F6: Masse (Kg) | H6: Masse du jour (Kg) | J6: Δ ISA du jour (°C) | L6: Field Pressure Alt (ft) | R6: Masse (Kg) | T6: Masse (Kg) | V6: Masse du jour (Kg) | X6: Δ ISA du jour (°C) | Z6: Field Pressure Alt (ft)
A7: Altitude Pression (ft) | B7: T° (°C) | C7: Δ ISA (°C) | D7: 1100 | F7: 900 | H7: ='Perfo DR480 NR'!E6 -> 1100 | J7: ='Perfo DR480 NR'!$C$9 -> -5 | L7: =IF('Perfo DR480 NR'!$C$6<0,0,'Perfo DR480 NR'!$C$6) -> 0 | O7: Altitude Pression (ft) | P7: T° (°C) | Q7: Δ ISA (°C) | R7: 1045 | T7: 845 | V7: ='Perfo DR480 NR'!E6 -> 1100 | X7: ='Perfo DR480 NR'!$C$9 -> -5 | Z7: =IF('Perfo DR480 NR'!$C$6<0,0,'Perfo DR480 NR'!$C$6) -> 0 | AE7: Performances brutes de décollage | AG7: Performances brutes d'atterrissage
D8: Distance de roulement (m) | E8: Distance de décollage (m) (passage 50ft) | F8: Distance de roulement (m) | G8: Distance de décollage (m) (passage 50ft) | H8: Distance de roulement (m) | I8: Distance de décollage (m) (passage 50ft) | J8: Distance de roulement (m) | K8: Distance de décollage (m) (passage 50ft) | L8: Distance de roulement (m) | M8: Distance de décollage (m) (passage 50ft) | R8: Distance de roulement (m) | S8: Distance d'atterrissage (m) (passage 50ft) | T8: Distance de roulement (m) | U8: Distance d'atterrissage (m) (passage 50ft) | V8: Distance de roulement (m) | W8: Distance d'atterrissage (m) (passage 50ft) | X8: Distance de roulement (m) | Y8: Distance d'atterrissage (m) (passage 50ft) | Z8: Distance de roulement (m) | AA8: Distance d'atterrissage (m) (passage 50ft) | AE8: Distance de roulement (m) | AF8: Distance de décollage (m) (passage 50ft) | AG8: Distance de roulement (m) | AH8: Distance d'atterrissage (m) (passage 50ft)
A9: 0 | B9: -5 | C9: -20 | D9: 215 | E9: 445 | F9: 120 | G9: 250 | H9: =F9+(($H$7-$F$7)*(D9-F9)/($D$7-$F$7)) -> 215 | I9: =G9+(($H$7-$F$7)*(E9-G9)/($D$7-$F$7)) -> 445 | J9: =IF(AND($J$7>=C9,$J$7<=C10),(H9+(($J$7-C9)*(H10-H9)/(C10-C9))),IF(AND($J$7>=C10,$J$7<=C11),(H10+(($J$7)*(H11-H10)/(C10-C9))),"error")) -> 241.25 | K9: =IF(AND($J$7>=C9,$J$7<=C10),(I9+(($J$7-C9)*(I10-I9)/(C10-C9))),IF(AND($J$7>=C10,$J$7<=C11),(I10+(($J$7)*(I11-I10)/(C10-C9))),"error")) -> 497.5 | L9: =IF($L$7=0,J9,IF(AND($L$7>0,$L$7<2500),(J9+($L$7*(J12-J9)/($A$12-$A$9))),IF($L$7=2500,J12,IF(AND($L$7>2500,$L$7<5000),(J12+(($L$7-$A$12)*(J15-J12)/($A$15-$A$12))),IF($L$7=5000,J15,IF(AND($L$7>5000,$L$7<8000),(J15+(($L$7-$A$15)*(J18-J15)/($A$18-$A$15))),IF($L$7=8000,J18,"Alt error"))))))) -> 241.25 | M9: =IF($L$7=0,K9,IF(AND($L$7>0,$L$7<2500),(K9+($L$7*(K12-K9)/($A$12-$A$9))),IF($L$7=2500,K12,IF(AND($L$7>2500,$L$7<5000),(K12+(($L$7-$A$12)*(K15-K12)/($A$15-$A$12))),IF($L$7=5000,K15,IF(AND($L$7>5000,$L$7<8000),(K15+(($L$7-$A$15)*(K18-K15)/($A$18-$A$15))),IF($L$7=8000,K18,"Alt error"))))))) -> 497.5 | O9: 0 | P9: -5 | Q9: -20 | R9: 230 | S9: 500 | T9: 190 | U9: 425 | V9: =T9+(($V$7-$T$7)*(R9-T9)/($R$7-$T$7)) -> 241 | W9: =U9+(($H$7-$F$7)*(S9-U9)/($D$7-$F$7)) -> 500 | X9: =IF(AND($X$7>=Q9,$X$7<=Q10),(V9+(($X$7-Q9)*(V10-V9)/(Q10-Q9))),IF(AND($X$7>=Q10,$X$7<=Q11),(V10+(($X$7)*(V11-V10)/(Q10-Q9))),"error")) -> 258.0625 | Y9: =IF(AND($X$7>=Q9,$X$7<=Q10),(W9+(($X$7-Q9)*(W10-W9)/(Q10-Q9))),IF(AND($X$7>=Q10,$X$7<=Q11),(W10+(($X$7)*(W11-W10)/(Q10-Q9))),"error")) -> 522.5 | Z9: =IF($Z$7=0,X9,IF(AND($Z$7>0,$Z$7<4000),(X9+($Z$7*(X12-X9)/($O$12-$O$9))),IF($Z$7=4000,X12,IF(AND($Z$7>=4000,$Z$7<8000),(X12+(($Z$7-$O$12)*(X15-X12)/($O$15-$O$12))),IF($Z$7=8000,X15,"Alt error"))))) -> 258.0625 | AA9: =IF($Z$7=0,Y9,IF(AND($Z$7>0,$Z$7<4000),(Y9+($Z$7*(Y12-Y9)/($O$12-$O$9))),IF($Z$7=4000,Y12,IF(AND($Z$7>=4000,$Z$7<8000),(Y12+(($Z$7-$O$12)*(Y15-Y12)/($O$15-$O$12))),IF($Z$7=8000,Y15,"Alt error"))))) -> 522.5 | AD9: Vent | AE9: =AE11+AE12 -> 241.25 | AF9: =AF11+AF12 -> 497.5 | AG9: =AG11+AG12 -> 258.0625 | AH9: =AH11+AH12 -> 522.5 | AI9: Cf manuel
B10: 15 | C10: 0 | D10: 250 | E10: 515 | F10: 140 | G10: 290 | H10: =F10+(($H$7-$F$7)*(D10-F10)/($D$7-$F$7)) -> 250 | I10: =G10+(($H$7-$F$7)*(E10-G10)/($D$7-$F$7)) -> 515 | P10: 15 | Q10: 0 | R10: 250 | S10: 530 | T10: 200 | U10: 450 | V10: =T10+(($V$7-$T$7)*(R10-T10)/($R$7-$T$7)) -> 263.75 | W10: =U10+(($H$7-$F$7)*(S10-U10)/($D$7-$F$7)) -> 530 | AD10: Type piste | AE10: =IF(COUNTIF('Perfo DR480 NR'!$C$12,"Dure"),AE9,AE9*1.15) -> 241.25 | AF10: =AE10+AF9-AE9 -> 497.5 | AG10: =IF(COUNTIF('Perfo DR480 NR'!$C$12,"Dure"),AG9,AG9*1.15) -> 258.0625 | AH10: =AG10+AH9-AG9 -> 522.5 | AI10: Herbe = *1.15 TO et LAND
B11: 35 | C11: 20 | D11: 290 | E11: 600 | F11: 165 | G11: 340 | H11: =F11+(($H$7-$F$7)*(D11-F11)/($D$7-$F$7)) -> 290 | I11: =G11+(($H$7-$F$7)*(E11-G11)/($D$7-$F$7)) -> 600 | P11: 35 | Q11: 20 | R11: 270 | S11: 560 | T11: 215 | U11: 475 | V11: =T11+(($V$7-$T$7)*(R11-T11)/($R$7-$T$7)) -> 285.125 | W11: =U11+(($H$7-$F$7)*(S11-U11)/($D$7-$F$7)) -> 560 | AC11: calculs | AE11: =IF('Perfo DR480 NR'!$A$12="Face",IF('Perfo DR480 NR'!$B$12<=9,L9,IF(AND('Perfo DR480 NR'!$B$12>9,'Perfo DR480 NR'!$B$12<20),L9*0.85,IF(AND('Perfo DR480 NR'!$B$12>19,'Perfo DR480 NR'!$B$12<30),L9*0.65,IF('Perfo DR480 NR'!$B$12>29,L9*0.55,0))))) -> 241.25 | AF11: =IF('Perfo DR480 NR'!$A$12="Face",IF('Perfo DR480 NR'!$B$12<=9,M9,IF(AND('Perfo DR480 NR'!$B$12>9,'Perfo DR480 NR'!$B$12<20),M9*0.85,IF(AND('Perfo DR480 NR'!$B$12>19,'Perfo DR480 NR'!$B$12<30),M9*0.65,IF('Perfo DR480 NR'!$B$12>29,M9*0.55,0))))) -> 497.5 | AG11: =IF('Perfo DR480 NR'!$A$12="Face",IF('Perfo DR480 NR'!$B$12<=9,Z9,IF(AND('Perfo DR480 NR'!$B$12>9,'Perfo DR480 NR'!$B$12<20),Z9*0.85,IF(AND('Perfo DR480 NR'!$B$12>19,'Perfo DR480 NR'!$B$12<30),Z9*0.65,IF('Perfo DR480 NR'!$B$12>29,Z9*0.55,0))))) -> 258.0625 | AH11: =IF('Perfo DR480 NR'!$A$12="Face",IF('Perfo DR480 NR'!$B$12<=9,AA9,IF(AND('Perfo DR480 NR'!$B$12>9,'Perfo DR480 NR'!$B$12<20),AA9*0.85,IF(AND('Perfo DR480 NR'!$B$12>19,'Perfo DR480 NR'!$B$12<30),AA9*0.65,IF('Perfo DR480 NR'!$B$12>29,AA9*0.55,0))))) -> 522.5
A12: 2500 | B12: -10 | C12: -20 | D12: 260 | E12: 540 | F12: 150 | G12: 310 | H12: =F12+(($H$7-$F$7)*(D12-F12)/($D$7-$F$7)) -> 260 | I12: =G12+(($H$7-$F$7)*(E12-G12)/($D$7-$F$7)) -> 540 | J12: =IF(AND($J$7>=C12,$J$7<=C13),(H12+(($J$7-C12)*(H13-H12)/(C13-C12))),IF(AND($J$7>=C13,$J$7<=C14),(H13+(($J$7)*(H14-H13)/(C13-C12))),"error")) -> 293.75 | K12: =IF(AND($J$7>=C12,$J$7<=C13),(I12+(($J$7-C12)*(I13-I12)/(C13-C12))),IF(AND($J$7>=C13,$J$7<=C14),(I13+(($J$7)*(I14-I13)/(C13-C12))),"error")) -> 611.25 | O12: 4000 | P12: -13 | Q12: -20 | R12: 260 | S12: 550 | T12: 210 | U12: 465 | V12: =T12+(($V$7-$T$7)*(R12-T12)/($R$7-$T$7)) -> 273.75 | W12: =U12+(($H$7-$F$7)*(S12-U12)/($D$7-$F$7)) -> 550 | X12: =IF(AND($X$7>=Q12,$X$7<=Q13),(V12+(($X$7-Q12)*(V13-V12)/(Q13-Q12))),IF(AND($X$7>=Q13,$X$7<=Q14),(V13+(($X$7)*(V14-V13)/(Q13-Q12))),"error")) -> 288.75 | Y12: =IF(AND($X$7>=Q12,$X$7<=Q13),(W12+(($X$7-Q12)*(W13-W12)/(Q13-Q12))),IF(AND($X$7>=Q13,$X$7<=Q14),(W13+(($X$7)*(W14-W13)/(Q13-Q12))),"error")) -> 576.25 | AC12: intermédiaires | AD12: ='Perfo DR480 NR'!A12 -> Face | AE12: =IF(AD12="Arrière",(1+(AD13/20))*L9) -> FALSE | AF12: =IF('Perfo DR480 NR'!$A$12="Arrière",M9*(1+('Perfo DR480 NR'!$B$12/20))) -> FALSE | AG12: =IF('Perfo DR480 NR'!$A$12="Arrière",Z9*(1+('Perfo DR480 NR'!$B$12/20))) -> FALSE | AH12: =IF('Perfo DR480 NR'!$A$12="Arrière",AA9*(1+('Perfo DR480 NR'!$B$12/20))) -> FALSE
B13: 10 | C13: 0 | D13: 305 | E13: 635 | F13: 175 | G13: 360 | H13: =F13+(($H$7-$F$7)*(D13-F13)/($D$7-$F$7)) -> 305 | I13: =G13+(($H$7-$F$7)*(E13-G13)/($D$7-$F$7)) -> 635 | P13: 7 | Q13: 0 | R13: 280 | S13: 585 | T13: 230 | U13: 495 | V13: =T13+(($V$7-$T$7)*(R13-T13)/($R$7-$T$7)) -> 293.75 | W13: =U13+(($H$7-$F$7)*(S13-U13)/($D$7-$F$7)) -> 585 | AD13: ='Perfo DR480 NR'!B12 -> 0
B14: 30 | C14: 20 | D14: 355 | E14: 735 | F14: 200 | G14: 415 | H14: =F14+(($H$7-$F$7)*(D14-F14)/($D$7-$F$7)) -> 355 | I14: =G14+(($H$7-$F$7)*(E14-G14)/($D$7-$F$7)) -> 735 | P14: 27 | Q14: 20 | R14: 300 | S14: 620 | T14: 240 | U14: 520 | V14: =T14+(($V$7-$T$7)*(R14-T14)/($R$7-$T$7)) -> 316.5 | W14: =U14+(($H$7-$F$7)*(S14-U14)/($D$7-$F$7)) -> 620
A15: 5000 | B15: -15 | C15: -20 | D15: 330 | E15: 680 | F15: 185 | G15: 385 | H15: =F15+(($H$7-$F$7)*(D15-F15)/($D$7-$F$7)) -> 330 | I15: =G15+(($H$7-$F$7)*(E15-G15)/($D$7-$F$7)) -> 680 | J15: =IF(AND($J$7>=C15,$J$7<=C16),(H15+(($J$7-C15)*(H16-H15)/(C16-C15))),IF(AND($J$7>=C16,$J$7<=C17),(H16+(($J$7)*(H17-H16)/(C16-C15))),"error")) -> 371.25 | K15: =IF(AND($J$7>=C15,$J$7<=C16),(I15+(($J$7-C15)*(I16-I15)/(C16-C15))),IF(AND($J$7>=C16,$J$7<=C17),(I16+(($J$7)*(I17-I16)/(C16-C15))),"error")) -> 766.25 | O15: 8000 | P15: -21 | Q15: -20 | R15: 295 | S15: 610 | T15: 240 | U15: 510 | V15: =T15+(($V$7-$T$7)*(R15-T15)/($R$7-$T$7)) -> 310.125 | W15: =U15+(($H$7-$F$7)*(S15-U15)/($D$7-$F$7)) -> 610 | X15: =IF(AND($X$7>=Q15,$X$7<=Q16),(V15+(($X$7-Q15)*(V16-V15)/(Q16-Q15))),IF(AND($X$7>=Q16,$X$7<=Q17),(V16+(($X$7)*(V17-V16)/(Q16-Q15))),"error")) -> 329.90625 | Y15: =IF(AND($X$7>=Q15,$X$7<=Q16),(W15+(($X$7-Q15)*(W16-W15)/(Q16-Q15))),IF(AND($X$7>=Q16,$X$7<=Q17),(W16+(($X$7)*(W17-W16)/(Q16-Q15))),"error")) -> 640
B16: 5 | C16: 0 | D16: 385 | E16: 795 | F16: 215 | G16: 450 | H16: =F16+(($H$7-$F$7)*(D16-F16)/($D$7-$F$7)) -> 385 | I16: =G16+(($H$7-$F$7)*(E16-G16)/($D$7-$F$7)) -> 795 | P16: -1 | Q16: 0 | R16: 320 | S16: 650 | T16: 260 | U16: 545 | V16: =T16+(($V$7-$T$7)*(R16-T16)/($R$7-$T$7)) -> 336.5 | W16: =U16+(($H$7-$F$7)*(S16-U16)/($D$7-$F$7)) -> 650
B17: 25 | C17: 20 | D17: 445 | E17: 925 | F17: 250 | G17: 520 | H17: =F17+(($H$7-$F$7)*(D17-F17)/($D$7-$F$7)) -> 445 | I17: =G17+(($H$7-$F$7)*(E17-G17)/($D$7-$F$7)) -> 925 | P17: 19 | Q17: 20 | R17: 340 | S17: 690 | T17: 275 | U17: 575 | V17: =T17+(($V$7-$T$7)*(R17-T17)/($R$7-$T$7)) -> 357.875 | W17: =U17+(($H$7-$F$7)*(S17-U17)/($D$7-$F$7)) -> 690
A18: 8000 | B18: -21 | C18: -20 | D18: 430 | E18: 890 | F18: 245 | G18: 505 | H18: =F18+(($H$7-$F$7)*(D18-F18)/($D$7-$F$7)) -> 430 | I18: =G18+(($H$7-$F$7)*(E18-G18)/($D$7-$F$7)) -> 890 | J18: =IF(AND($J$7>=C18,$J$7<=C19),(H18+(($J$7-C18)*(H19-H18)/(C19-C18))),IF(AND($J$7>=C19,$J$7<=C20),(H19+(($J$7)*(H20-H19)/(C19-C18))),"error")) -> 486.25 | K18: =IF(AND($J$7>=C18,$J$7<=C19),(I18+(($J$7-C18)*(I19-I18)/(C19-C18))),IF(AND($J$7>=C19,$J$7<=C20),(I19+(($J$7)*(I20-I19)/(C19-C18))),"error")) -> 1010
B19: -1 | C19: 0 | D19: 505 | E19: 1050 | F19: 285 | G19: 590 | H19: =F19+(($H$7-$F$7)*(D19-F19)/($D$7-$F$7)) -> 505 | I19: =G19+(($H$7-$F$7)*(E19-G19)/($D$7-$F$7)) -> 1050
B20: 19 | C20: 20 | D20: 590 | E20: 1225 | F20: 335 | G20: 695 | H20: =F20+(($H$7-$F$7)*(D20-F20)/($D$7-$F$7)) -> 590 | I20: =G20+(($H$7-$F$7)*(E20-G20)/($D$7-$F$7)) -> 1225
R22: Face | S22: Arrière | U22: <-- nom sensvent | W22: Type de piste | X22: Etat piste
R23: 0 | S23: 0 | W23: Dure | X23: Sèche
R24: 5 | S24: 2 | W24: Herbe | X24: Mouillée
R25: 10 | S25: 4
R26: 15 | S26: 6
R27: 20 | S27: 8
R28: 25 | S28: 10
R29: 30
R31: nom face | S31: nom arrière

Sheet Perfo DR460 ZY
A1: F-GTZY | F1: Performances décollage et atterrissage DR400-160
A3: 1. Renseigner les cases vertes 2. Lire les performances | G3: Attention, ce fichier n'est pas fourni par le constructeur. Il ne doit pas être le seul outil de préparation des performances de votre vol. Référez-vous au manuel de vol de l'avion afin de vérifier systématiquement les performances calculées.
A5: Altitude aérodrome (ft QNH) | B5: QNH | C5: Altitude pression (ft) | E5: Masse avion (kg)
A6: 0 | B6: 1013 | C6: =(1013-B6)*(IF(A6<3000,28,30))+A6 -> 0 | E6: 1045
C7: =IF(C6<=8000,"Zp max 8000 ft","Zp max dépassée") -> Zp max 8000 ft | E7: =IF(E6<=1050,"Maxi T/O 1050 Kg Maxi LND 1045 Kg","Masse maxi dépassée") -> Maxi T/O 1050 Kg Maxi LND 1045 Kg
A8: Température (°C) | B8: ISA (°C) | C8: ΔISA (°C) | E8: Δ ISA max du manuel de vol = +/-20°C ("ISA-20" et "ISA+20")
A9: 10 | B9: =15+(($C$6/1000)*(-2)) -> 15 | C9: =IF(AND(A9-B9>=-20,A9-B9<=20),A9-B9,"ERROR") -> -5
G10: Performances brutes de décollage | I10: Performances brutes d'atterrissage
A11: Sens du vent [menu déroulant] | B11: Vitesse du vent (kt) Composante face ou arrière | C11: Type de piste [menu déroulant] | E11: Nb : les corrections pour pistes mouillées et pistes en pente ne sont pas données par le manuel de vol. | G11: Distance de roulement (m) | H11: Distance de décollage (m) (passage 50ft) | I11: Distance de roulement (m) | J11: Distance d'atterrissage (m) (passage 50ft)
A12: Face | B12: 0 | C12: Dure | G12: =IFERROR('Calculs DR460'!AE10,"ALT or TEMP out of range!") -> 284.84375 | H12: =IFERROR('Calculs DR460'!AF10,"ALT or TEMP out of range!") -> 569.78125 | I12: =IFERROR('Calculs DR460'!AG10,"ALT or TEMP out of range!") -> 243.90625 | J12: =IFERROR('Calculs DR460'!AH10,"ALT or TEMP out of range!") -> 534.1875
C13: Piste sèche
A14: Performances brutes = celles données par le manuel de vol. Elles correspondent à un avion neuf et réalisées par un pilote d'essai dans des conditions différentes de notre utilisation normale. | G14: Performances de décollage factorisées (+30%) | I14: Performances d'atterrissage factorisées (+30%)
A15: Il est conseillé de factoriser ces valeurs pour plus de sécurité. Au pilote de décider. Le tableau ci-contre majore les distances de 30% au décollage et de 30% sur le roulage à l'atterrissage. | G15: =G12*1.3 -> 370.29688 | H15: =H12*1.3 -> 740.71563 | I15: =I12*1.3 -> 317.07812 | J15: =J12*1.3 -> 694.44375
H16: Comparer à TODA | J16: Comparer à LDA

Sheet Calculs DR460
A1: F-GTZY
A4: Performances de décollage | O4: Performances d'atterrissage
AD5: Prise en compte du vent et type de piste
D6: Masse (Kg) | F6: Masse (Kg) | H6: Masse du jour (Kg) | J6: Δ ISA du jour (°C) | L6: Field Pressure Alt (ft) | R6: Masse (Kg) | T6: Masse (Kg) | V6: Masse du jour (Kg) | X6: Δ ISA du jour (°C) | Z6: Field Pressure Alt (ft)
A7: Altitude Pression (ft) | B7: T° (°C) | C7: Δ ISA (°C) | D7: 1050 | F7: 850 | H7: ='Perfo DR460 ZY'!E6 -> 1045 | J7: ='Perfo DR460 ZY'!$C$9 -> -5 | L7: =IF('Perfo DR460 ZY'!$C$6<0,0,'Perfo DR460 ZY'!$C$6) -> 0 | O7: Altitude Pression (ft) | P7: T° (°C) | Q7: Δ ISA (°C) | R7: 1050 | T7: 850 | V7: ='Perfo DR460 ZY'!E6 -> 1045 | X7: ='Perfo DR460 ZY'!$C$9 -> -5 | Z7: =IF('Perfo DR460 ZY'!$C$6<0,0,'Perfo DR460 ZY'!$C$6) -> 0 | AE7: Performances brutes de décollage | AG7: Performances brutes d'atterrissage
D8: Distance de roulement (m) | E8: Distance de décollage (m) (passage 50ft) | F8: Distance de roulement (m) | G8: Distance de décollage (m) (passage 50ft) | H8: Distance de roulement (m) | I8: Distance de décollage (m) (passage 50ft) | J8: Distance de roulement (m) | K8: Distance de décollage (m) (passage 50ft) | L8: Distance de roulement (m) | M8: Distance de décollage (m) (passage 50ft) | R8: Distance de roulement (m) | S8: Distance d'atterrissage (m) (passage 50ft) | T8: Distance de roulement (m) | U8: Distance d'atterrissage (m) (passage 50ft) | V8: Distance de roulement (m) | W8: Distance d'atterrissage (m) (passage 50ft) | X8: Distance de roulement (m) | Y8: Distance d'atterrissage (m) (passage 50ft) | Z8: Distance de roulement (m) | AA8: Distance d'atterrissage (m) (passage 50ft) | AE8: Distance de roulement (m) | AF8: Distance de décollage (m) (passage 50ft) | AG8: Distance de roulement (m) | AH8: Distance d'atterrissage (m) (passage 50ft)
A9: 0 | B9: -5 | C9: -20 | D9: 265 | E9: 530 | F9: 170 | G9: 340 | H9: =F9+(($H$7-$F$7)*(D9-F9)/($D$7-$F$7)) -> 262.625 | I9: =G9+(($H$7-$F$7)*(E9-G9)/($D$7-$F$7)) -> 525.25 | J9: =IF(AND($J$7>=C9,$J$7<=C10),(H9+(($J$7-C9)*(H10-H9)/(C10-C9))),IF(AND($J$7>=C10,$J$7<=C11),(H10+(($J$7)*(H11-H10)/(C10-C9))),"error")) -> 284.84375 | K9: =IF(AND($J$7>=C9,$J$7<=C10),(I9+(($J$7-C9)*(I10-I9)/(C10-C9))),IF(AND($J$7>=C10,$J$7<=C11),(I10+(($J$7)*(I11-I10)/(C10-C9))),"error")) -> 569.78125 | L9: =IF($L$7=0,J9,IF(AND($L$7>0,$L$7<4000),(J9+($L$7*(J12-J9)/($A$12-$A$9))),IF($L$7=4000,J12,IF(AND($L$7>4000,$L$7<8000),(J12+(($L$7-$A$12)*(J15-J12)/($A$15-$A$12))),IF($L$7=8000,J15,"Alt error"))))) -> 284.84375 | M9: =IF($L$7=0,K9,IF(AND($L$7>0,$L$7<4000),(K9+($L$7*(K12-K9)/($A$12-$A$9))),IF($L$7=4000,K12,IF(AND($L$7>4000,$L$7<8000),(K12+(($L$7-$A$12)*(K15-K12)/($A$15-$A$12))),IF($L$7=8000,K15,"Alt error"))))) -> 569.78125 | O9: 0 | P9: -5 | Q9: -20 | R9: 230 | S9: 510 | T9: 190 | U9: 435 | V9: =T9+(($V$7-$T$7)*(R9-T9)/($R$7-$T$7)) -> 229 | W9: =U9+(($H$7-$F$7)*(S9-U9)/($D$7-$F$7)) -> 508.125 | X9: =IF(AND($X$7>=Q9,$X$7<=Q10),(V9+(($X$7-Q9)*(V10-V9)/(Q10-Q9))),IF(AND($X$7>=Q10,$X$7<=Q11),(V10+(($X$7)*(V11-V10)/(Q10-Q9))),"error")) -> 243.90625 | Y9: =IF(AND($X$7>=Q9,$X$7<=Q10),(W9+(($X$7-Q9)*(W10-W9)/(Q10-Q9))),IF(AND($X$7>=Q10,$X$7<=Q11),(W10+(($X$7)*(W11-W10)/(Q10-Q9))),"error")) -> 534.1875 | Z9: =IF($Z$7=0,X9,IF(AND($Z$7>0,$Z$7<4000),(X9+($Z$7*(X12-X9)/($O$12-$O$9))),IF($Z$7=4000,X12,IF(AND($Z$7>=4000,$Z$7<8000),(X12+(($Z$7-$O$12)*(X15-X12)/($O$15-$O$12))),IF($Z$7=8000,X15,"Alt error"))))) -> 243.90625 | AA9: =IF($Z$7=0,Y9,IF(AND($Z$7>0,$Z$7<4000),(Y9+($Z$7*(Y12-Y9)/($O$12-$O$9))),IF($Z$7=4000,Y12,IF(AND($Z$7>=4000,$Z$7<8000),(Y12+(($Z$7-$O$12)*(Y15-Y12)/($O$15-$O$12))),IF($Z$7=8000,Y15,"Alt error"))))) -> 534.1875 | AD9: Vent | AE9: =AE11+AE12 -> 284.84375 | AF9: =AF11+AF12 -> 569.78125 | AG9: =AG11+AG12 -> 243.90625 | AH9: =AH11+AH12 -> 534.1875 | AI9: Cf manuel
B10: 15 | C10: 0 | D10: 295 | E10: 590 | F10: 185 | G10: 375 | H10: =F10+(($H$7-$F$7)*(D10-F10)/($D$7-$F$7)) -> 292.25 | I10: =G10+(($H$7-$F$7)*(E10-G10)/($D$7-$F$7)) -> 584.625 | P10: 15 | Q10: 0 | R10: 250 | S10: 545 | T10: 205 | U10: 460 | V10: =T10+(($V$7-$T$7)*(R10-T10)/($R$7-$T$7)) -> 248.875 | W10: =U10+(($H$7-$F$7)*(S10-U10)/($D$7-$F$7)) -> 542.875 | AD10: Type piste | AE10: =IF(COUNTIF('Perfo DR460 ZY'!$C$12,"Dure"),AE9,AE9*1.15) -> 284.84375 | AF10: =AE10+AF9-AE9 -> 569.78125 | AG10: =IF(COUNTIF('Perfo DR460 ZY'!$C$12,"Dure"),AG9,AG9*1.15) -> 243.90625 | AH10: =AG10+AH9-AG9 -> 534.1875 | AI10: Herbe = *1.15 TO et LAND
B11: 35 | C11: 20 | D11: 330 | E11: 655 | F11: 205 | G11: 415 | H11: =F11+(($H$7-$F$7)*(D11-F11)/($D$7-$F$7)) -> 326.875 | I11: =G11+(($H$7-$F$7)*(E11-G11)/($D$7-$F$7)) -> 649 | P11: 35 | Q11: 20 | R11: 270 | S11: 575 | T11: 215 | U11: 485 | V11: =T11+(($V$7-$T$7)*(R11-T11)/($R$7-$T$7)) -> 268.625 | W11: =U11+(($H$7-$F$7)*(S11-U11)/($D$7-$F$7)) -> 572.75 | AC11: calculs | AE11: =IF('Perfo DR460 ZY'!A12="Face",IF('Perfo DR460 ZY'!B12<=9,L9,IF(AND('Perfo DR460 ZY'!B12>9,'Perfo DR460 ZY'!B12<20),L9*0.85,IF(AND('Perfo DR460 ZY'!B12>19,'Perfo DR460 ZY'!B12<30),L9*0.65,IF('Perfo DR460 ZY'!B12>29,L9*0.55,0))))) -> 284.84375 | AF11: =IF('Perfo DR460 ZY'!A12="Face",IF('Perfo DR460 ZY'!B12<=9,M9,IF(AND('Perfo DR460 ZY'!B12>9,'Perfo DR460 ZY'!B12<20),M9*0.85,IF(AND('Perfo DR460 ZY'!B12>19,'Perfo DR460 ZY'!B12<30),M9*0.65,IF('Perfo DR460 ZY'!B12>29,M9*0.55,0))))) -> 569.78125 | AG11: =IF('Perfo DR460 ZY'!A12="Face",IF('Perfo DR460 ZY'!B12<=9,Z9,IF(AND('Perfo DR460 ZY'!B12>9,'Perfo DR460 ZY'!B12<20),Z9*0.85,IF(AND('Perfo DR460 ZY'!B12>19,'Perfo DR460 ZY'!B12<30),Z9*0.65,IF('Perfo DR460 ZY'!B12>29,Z9*0.55,0))))) -> 243.90625 | AH11: =IF('Perfo DR460 ZY'!A12="Face",IF('Perfo DR460 ZY'!B12<=9,AA9,IF(AND('Perfo DR460 ZY'!B12>9,'Perfo DR460 ZY'!B12<20),AA9*0.85,IF(AND('Perfo DR460 ZY'!B12>19,'Perfo DR460 ZY'!B12<30),AA9*0.65,IF('Perfo DR460 ZY'!B12>29,AA9*0.55,0))))) -> 534.1875
A12: 4000 | B12: -13 | C12: -20 | D12: 355 | E12: 710 | F12: 220 | G12: 445 | H12: =F12+(($H$7-$F$7)*(D12-F12)/($D$7-$F$7)) -> 351.625 | I12: =G12+(($H$7-$F$7)*(E12-G12)/($D$7-$F$7)) -> 703.375 | J12: =IF(AND($J$7>=C12,$J$7<=C13),(H12+(($J$7-C12)*(H13-H12)/(C13-C12))),IF(AND($J$7>=C13,$J$7<=C14),(H13+(($J$7)*(H14-H13)/(C13-C12))),"error")) -> 385.28125 | K12: =IF(AND($J$7>=C12,$J$7<=C13),(I12+(($J$7-C12)*(I13-I12)/(C13-C12))),IF(AND($J$7>=C13,$J$7<=C14),(I13+(($J$7)*(I14-I13)/(C13-C12))),"error")) -> 770.21875 | O12: 4000 | P12: -13 | Q12: -20 | R12: 260 | S12: 565 | T12: 210 | U12: 475 | V12: =T12+(($V$7-$T$7)*(R12-T12)/($R$7-$T$7)) -> 258.75 | W12: =U12+(($H$7-$F$7)*(S12-U12)/($D$7-$F$7)) -> 562.75 | X12: =IF(AND($X$7>=Q12,$X$7<=Q13),(V12+(($X$7-Q12)*(V13-V12)/(Q13-Q12))),IF(AND($X$7>=Q13,$X$7<=Q14),(V13+(($X$7)*(V14-V13)/(Q13-Q12))),"error")) -> 273.75 | Y12: =IF(AND($X$7>=Q12,$X$7<=Q13),(W12+(($X$7-Q12)*(W13-W12)/(Q13-Q12))),IF(AND($X$7>=Q13,$X$7<=Q14),(W13+(($X$7)*(W14-W13)/(Q13-Q12))),"error")) -> 588.90625 | AC12: intermédiaires | AD12: ='Perfo DR460 ZY'!A12 -> Face | AE12: =IF(AD12="Arrière",(1+(AD13/20))*L9) -> FALSE | AF12: =IF('Perfo DR460 ZY'!A12="Arrière",M9*(1+('Perfo DR460 ZY'!B12/20))) -> FALSE | AG12: =IF('Perfo DR460 ZY'!A12="Arrière",Z9*(1+('Perfo DR460 ZY'!B12/20))) -> FALSE | AH12: =IF('Perfo DR460 ZY'!A12="Arrière",AA9*(1+('Perfo DR460 ZY'!B12/20))) -> FALSE
B13: 7 | C13: 0 | D13: 400 | E13: 800 | F13: 260 | G13: 500 | H13: =F13+(($H$7-$F$7)*(D13-F13)/($D$7-$F$7)) -> 396.5 | I13: =G13+(($H$7-$F$7)*(E13-G13)/($D$7-$F$7)) -> 792.5 | P13: 7 | Q13: 0 | R13: 280 | S13: 600 | T13: 230 | U13: 505 | V13: =T13+(($V$7-$T$7)*(R13-T13)/($R$7-$T$7)) -> 278.75 | W13: =U13+(($H$7-$F$7)*(S13-U13)/($D$7-$F$7)) -> 597.625 | AD13: ='Perfo DR460 ZY'!B12 -> 0
B14: 27 | C14: 20 | D14: 450 | E14: 890 | F14: 275 | G14: 550 | H14: =F14+(($H$7-$F$7)*(D14-F14)/($D$7-$F$7)) -> 445.625 | I14: =G14+(($H$7-$F$7)*(E14-G14)/($D$7-$F$7)) -> 881.5 | P14: 27 | Q14: 20 | R14: 300 | S14: 635 | T14: 245 | U14: 535 | V14: =T14+(($V$7-$T$7)*(R14-T14)/($R$7-$T$7)) -> 298.625 | W14: =U14+(($H$7-$F$7)*(S14-U14)/($D$7-$F$7)) -> 632.5
A15: 8000 | B15: -21 | C15: -20 | D15: 485 | E15: 980 | F15: 300 | G15: 605 | H15: =F15+(($H$7-$F$7)*(D15-F15)/($D$7-$F$7)) -> 480.375 | I15: =G15+(($H$7-$F$7)*(E15-G15)/($D$7-$F$7)) -> 970.625 | J15: =IF(AND($J$7>=C15,$J$7<=C16),(H15+(($J$7-C15)*(H16-H15)/(C16-C15))),IF(AND($J$7>=C16,$J$7<=C17),(H16+(($J$7)*(H17-H16)/(C16-C15))),"error")) -> 528.65625 | K15: =IF(AND($J$7>=C15,$J$7<=C16),(I15+(($J$7-C15)*(I16-I15)/(C16-C15))),IF(AND($J$7>=C16,$J$7<=C17),(I16+(($J$7)*(I17-I16)/(C16-C15))),"error")) -> 1063.3438 | O15: 8000 | P15: -21 | Q15: -20 | R15: 295 | S15: 620 | T15: 240 | U15: 520 | V15: =T15+(($V$7-$T$7)*(R15-T15)/($R$7-$T$7)) -> 293.625 | W15: =U15+(($H$7-$F$7)*(S15-U15)/($D$7-$F$7)) -> 617.5 | X15: =IF(AND($X$7>=Q15,$X$7<=Q16),(V15+(($X$7-Q15)*(V16-V15)/(Q16-Q15))),IF(AND($X$7>=Q16,$X$7<=Q17),(V16+(($X$7)*(V17-V16)/(Q16-Q15))),"error")) -> 312.28125 | Y15: =IF(AND($X$7>=Q15,$X$7<=Q16),(W15+(($X$7-Q15)*(W16-W15)/(Q16-Q15))),IF(AND($X$7>=Q16,$X$7<=Q17),(W16+(($X$7)*(W17-W16)/(Q16-Q15))),"error")) -> 647.40625
B16: -1 | C16: 0 | D16: 550 | E16: 1105 | F16: 340 | G16: 675 | H16: =F16+(($H$7-$F$7)*(D16-F16)/($D$7-$F$7)) -> 544.75 | I16: =G16+(($H$7-$F$7)*(E16-G16)/($D$7-$F$7)) -> 1094.25 | P16: -1 | Q16: 0 | R16: 320 | S16: 660 | T16: 260 | U16: 555 | V16: =T16+(($V$7-$T$7)*(R16-T16)/($R$7-$T$7)) -> 318.5 | W16: =U16+(($H$7-$F$7)*(S16-U16)/($D$7-$F$7)) -> 657.375
B17: 19 | C17: 20 | D17: 620 | E17: 1250 | F17: 380 | G17: 750 | H17: =F17+(($H$7-$F$7)*(D17-F17)/($D$7-$F$7)) -> 614 | I17: =G17+(($H$7-$F$7)*(E17-G17)/($D$7-$F$7)) -> 1237.5 | P17: 19 | Q17: 20 | R17: 340 | S17: 700 | T17: 275 | U17: 585 | V17: =T17+(($V$7-$T$7)*(R17-T17)/($R$7-$T$7)) -> 338.375 | W17: =U17+(($H$7-$F$7)*(S17-U17)/($D$7-$F$7)) -> 697.125
R22: Face | S22: Arrière | U22: <-- nom sensvent | W22: Type de piste | X22: Etat piste
R23: 0 | S23: 0 | W23: Dure | X23: Sèche
R24: 5 | S24: 2 | W24: Herbe | X24: Mouillée
R25: 10 | S25: 4
R26: 15 | S26: 6
R27: 20 | S27: 8
R28: 25 | S28: 10
R29: 30
R31: nom face | S31: nom arrière

Sheet Perfo DR420 DP
A1: F-GLDP | F1: Performances décollage et atterrissage DR400-120
A3: 1. Renseigner les cases vertes 2. Lire les performances | G3: Attention, ce fichier n'est pas fourni par le constructeur. Il ne doit pas être le seul outil de préparation des performances de votre vol. Référez-vous au manuel de vol de l'avion afin de vérifier systématiquement les performances calculées.
A5: Altitude aérodrome (ft QNH) | B5: QNH | C5: Altitude pression (ft) | E5: Masse avion (kg)
A6: 0 | B6: 1013 | C6: =((1013-B6)*(IF(A6<3000,28,30))+A6) -> 0 | E6: 900
C7: =IF(C6>8000,"Dépassement altitude ! (Max=8000ft)","zp max = 8000ft)Si<0 : calcul fait avec 0ft") -> zp max = 8000ft)Si<0 : calcul fait avec 0ft | E7: =IF(E6<=900,"Maxi T/O 900 kg Maxi LND 900 Kg","Masse max dépassée") -> Maxi T/O 900 kg Maxi LND 900 Kg
A8: Température (°C) | B8: ISA (°C) | C8: ΔISA (°C) | E8: Δ ISA max du manuel de vol = +/-20°C ("ISA-20" et "ISA+20") | I8: Le calcul atterrissage piste en herbe sans freins
A9: 10 | B9: =15+(($C$6/1000)*(-2)) -> 15 | C9: =IF(AND(A9-B9>=-20,A9-B9<=20),A9-B9,"ERROR") -> -5 | I9: est disponible dans le Manuel de Vol
G10: Performances brutes de décollage | I10: Performances brutes d'atterrissage
A11: Sens du vent [menu déroulant] | B11: Vitesse du vent (kt) Composante face ou arrière | C11: Type de piste [menu déroulant] | E11: Nb : les corrections pour pistes mouillées et pistes en pente ne sont pas données par le manuel de vol. | G11: Distance de roulement (m) | H11: Distance de décollage (m) (passage 50ft) | I11: Distance de roulement (m) | J11: Distance d'atterrissage (m) (passage 50ft)
A12: Face | B12: 0 | C12: Dure | G12: =IFERROR('Calculs DR420'!AE10,"ALT or TEMPout of range") -> 275 | H12: =IFERROR('Calculs DR420'!AF10,"ALT or TEMP out of range!") -> 516.25 | I12: =IFERROR('Calculs DR420'!AG10,"ALT or TEMP out of range!") -> 196.25 | J12: =IFERROR('Calculs DR420'!AH10,"ALT or TEMP out of range!") -> 453.75
C13: Piste sèche
A14: Performances brutes = celles données par le manuel de vol. Elles correspondent à un avion neuf et réalisées par un pilote d'essai dans des conditions différentes de notre utilisation normale. | G14: Performances de décollage factorisées (+30%) | I14: Performances d'atterrissage factorisées (+30%)
A15: Il est conseillé de factoriser ces valeurs pour plus de sécurité. Au pilote de décider. Le tableau ci-contre majore les distances de 30% au décollage et de 30% sur le roulage à l'atterrissage. | G15: =G12*1.3 -> 357.5 | H15: =H12*1.3 -> 671.125 | I15: =I12*1.3 -> 255.125 | J15: =J12*1.3 -> 589.875
H16: Comparer à TODA | J16: Comparer à LDA

Sheet Calculs DR420
A1: F-GLDP
A4: Performances de décollage | O4: Performances d'atterrissage
AD5: Prise en compte du vent et type de piste
D6: Masse (Kg) | F6: Masse (Kg) | H6: Masse du jour (Kg) | J6: Δ ISA du jour (°C) | L6: Field Pressure Alt (ft) | R6: Masse (Kg) | T6: Masse (Kg) | V6: Masse du jour (Kg) | X6: Δ ISA du jour (°C) | Z6: Field Pressure Alt (ft)
A7: Altitude Pression (ft) | B7: T° (°C) | C7: Δ ISA (°C) | D7: 900 | F7: 700 | H7: ='Perfo DR420 DP'!$E$6 -> 900 | J7: ='Perfo DR420 DP'!$C$9 -> -5 | L7: =IF('Perfo DR420 DP'!$C$6<0,0,'Perfo DR420 DP'!$C$6) -> 0 | O7: Altitude Pression (ft) | P7: T° (°C) | Q7: Δ ISA (°C) | R7: 900 | T7: 700 | V7: ='Perfo DR420 DP'!$E$6 -> 900 | X7: ='Perfo DR420 DP'!$C$9 -> -5 | Z7: =IF('Perfo DR420 DP'!$C$6<0,0,'Perfo DR420 DP'!$C$6) -> 0 | AE7: Performances brutes de décollage | AG7: Performances brutes d'atterrissage
D8: Distance de roulement (m) | E8: Distance de décollage (m) (passage 50ft) | F8: Distance de roulement (m) | G8: Distance de décollage (m) (passage 50ft) | H8: Distance de roulement (m) | I8: Distance de décollage (m) (passage 50ft) | J8: Distance de roulement (m) | K8: Distance de décollage (m) (passage 50ft) | L8: Distance de roulement (m) | M8: Distance de décollage (m) (passage 50ft) | R8: Distance de roulement (m) | S8: Distance d'atterrissage (m) (passage 50ft) | T8: Distance de roulement (m) | U8: Distance d'atterrissage (m) (passage 50ft) | V8: Distance de roulement (m) | W8: Distance d'atterrissage (m) (passage 50ft) | X8: Distance de roulement (m) | Y8: Distance d'atterrissage (m) (passage 50ft) | Z8: Distance de roulement (m) | AA8: Distance d'atterrissage (m) (passage 50ft) | AE8: Distance de roulement (m) | AF8: Distance de décollage (m) (passage 50ft) | AG8: Distance de roulement (m) | AH8: Distance d'atterrissage (m) (passage 50ft)
A9: 0 | B9: -5 | C9: -20 | D9: 245 | E9: 460 | F9: 120 | G9: 225 | H9: =F9+(($H$7-$F$7)*(D9-F9)/($D$7-$F$7)) -> 245 | I9: =G9+(($H$7-$F$7)*(E9-G9)/($D$7-$F$7)) -> 460 | J9: =IF(AND($J$7>=C9,$J$7<=C10),(H9+(($J$7-C9)*(H10-H9)/(C10-C9))),IF(AND($J$7>=C10,$J$7<=C11),(H10+(($J$7)*(H11-H10)/(C10-C9))),"error")) -> 275 | K9: =IF(AND($J$7>=C9,$J$7<=C10),(I9+(($J$7-C9)*(I10-I9)/(C10-C9))),IF(AND($J$7>=C10,$J$7<=C11),(I10+(($J$7)*(I11-I10)/(C10-C9))),"error")) -> 516.25 | L9: =IF($L$7=0,J9,IF(AND($L$7>0,$L$7<2500),(J9+($L$7*(J12-J9)/($A$12-$A$9))),IF($L$7=2500,J12,IF(AND($L$7>2500,$L$7<5000),(J12+(($L$7-$A$12)*(J15-J12)/($A$15-$A$12))),IF($L$7=5000,J15,IF(AND($L$7>5000,$L$7<8000),(J15+(($L$7-$A$15)*(J18-J15)/($A$18-$A$15))),IF($L$7=8000,J18,"Alt error"))))))) -> 275 | M9: =IF($L$7=0,K9,IF(AND($L$7>0,$L$7<2500),(K9+($L$7*(K12-K9)/($A$12-$A$9))),IF($L$7=2500,K12,IF(AND($L$7>2500,$L$7<5000),(K12+(($L$7-$A$12)*(K15-K12)/($A$15-$A$12))),IF($L$7=5000,K15,IF(AND($L$7>5000,$L$7<8000),(K15+(($L$7-$A$15)*(K18-K15)/($A$18-$A$15))),IF($L$7=8000,K18,"Alt error"))))))) -> 516.25 | O9: 0 | P9: -5 | Q9: -20 | R9: 185 | S9: 435 | T9: 145 | U9: 365 | V9: =T9+(($V$7-$T$7)*(R9-T9)/($R$7-$T$7)) -> 185 | W9: =U9+(($H$7-$F$7)*(S9-U9)/($D$7-$F$7)) -> 435 | X9: =IF(AND($X$7>=Q9,$J$7<=Q10),(V9+(($X$7-Q9)*(V10-V9)/(Q10-Q9))),IF(AND($X$7>=Q10,$X$7<=Q11),(V10+(($X$7)*(V11-V10)/(Q10-Q9))),"error")) -> 196.25 | Y9: =IF(AND($X$7>=Q9,$J$7<=Q10),(W9+(($X$7-Q9)*(W10-W9)/(Q10-Q9))),IF(AND($X$7>=Q10,$X$7<=Q11),(W10+(($X$7)*(W11-W10)/(Q10-Q9))),"error")) -> 453.75 | Z9: =IF($Z$7=0,X9,IF(AND($Z$7>0,$Z$7<4000),(X9+($Z$7*(X12-X9)/($O$12-$O$9))),IF($Z$7=4000,X12,IF(AND($Z$7>=4000,$Z$7<8000),(X12+(($Z$7-$O$12)*(X15-X12)/($O$15-$O$12))),IF($Z$7=8000,X15,"Alt error"))))) -> 196.25 | AA9: =IF($Z$7=0,Y9,IF(AND($Z$7>0,$Z$7<4000),(Y9+($Z$7*(Y12-Y9)/($O$12-$O$9))),IF($Z$7=4000,Y12,IF(AND($Z$7>=4000,$Z$7<8000),(Y12+(($Z$7-$O$12)*(Y15-Y12)/($O$15-$O$12))),IF($Z$7=8000,Y15,"Alt error"))))) -> 453.75 | AD9: Vent | AE9: =AE11+AE12 -> 275 | AF9: =AF11+AF12 -> 516.25 | AG9: =AG11+AG12 -> 196.25 | AH9: =AH11+AH12 -> 453.75 | AI9: Cf manuel
B10: 15 | C10: 0 | D10: 285 | E10: 535 | F10: 140 | G10: 260 | H10: =F10+(($H$7-$F$7)*(D10-F10)/($D$7-$F$7)) -> 285 | I10: =G10+(($H$7-$F$7)*(E10-G10)/($D$7-$F$7)) -> 535 | P10: 15 | Q10: 0 | R10: 200 | S10: 460 | T10: 155 | U10: 385 | V10: =T10+(($V$7-$T$7)*(R10-T10)/($R$7-$T$7)) -> 200 | W10: =U10+(($H$7-$F$7)*(S10-U10)/($D$7-$F$7)) -> 460 | AD10: Type piste | AE10: =IF(COUNTIF('Perfo DR420 DP'!$C$12,"Dure"),AE9,AE9*1.15) -> 275 | AF10: =AE10+AF9-AE9 -> 516.25 | AG10: =IF(COUNTIF('Perfo DR420 DP'!$C$12,"Dure"),AG9,AG9*1.15) -> 196.25 | AH10: =AG10+AH9-AG9 -> 453.75 | AI10: Herbe = *1.15 TO et LAND
B11: 35 | C11: 20 | D11: 325 | E11: 610 | F11: 160 | G11: 300 | H11: =F11+(($H$7-$F$7)*(D11-F11)/($D$7-$F$7)) -> 325 | I11: =G11+(($H$7-$F$7)*(E11-G11)/($D$7-$F$7)) -> 610 | P11: 35 | Q11: 20 | R11: 210 | S11: 485 | T11: 165 | U11: 400 | V11: =T11+(($V$7-$T$7)*(R11-T11)/($R$7-$T$7)) -> 210 | W11: =U11+(($H$7-$F$7)*(S11-U11)/($D$7-$F$7)) -> 485 | AC11: Calculs | AE11: =IF('Perfo DR420 DP'!A12="Face",IF('Perfo DR420 DP'!B12<=9,L9,IF(AND('Perfo DR420 DP'!B12>9,'Perfo DR420 DP'!B12<20),L9*0.85,IF(AND('Perfo DR420 DP'!B12>19,'Perfo DR420 DP'!B12<30),L9*0.65,IF('Perfo DR420 DP'!B12>29,L9*0.55,0))))) -> 275 | AF11: =IF('Perfo DR420 DP'!A12="Face",IF('Perfo DR420 DP'!B12<=9,M9,IF(AND('Perfo DR420 DP'!B12>9,'Perfo DR420 DP'!B12<20),M9*0.85,IF(AND('Perfo DR420 DP'!B12>19,'Perfo DR420 DP'!B12<30),M9*0.65,IF('Perfo DR420 DP'!B12>29,M9*0.55,0))))) -> 516.25 | AG11: =IF('Perfo DR420 DP'!A12="Face",IF('Perfo DR420 DP'!B12<=9,Z9,IF(AND('Perfo DR420 DP'!B12>9,'Perfo DR420 DP'!B12<20),Z9*0.78,IF(AND('Perfo DR420 DP'!B12>19,'Perfo DR420 DP'!B12<30),Z9*0.63,IF('Perfo DR420 DP'!B12>29,Z9*0.52,0))))) -> 196.25 | AH11: =IF('Perfo DR420 DP'!A12="Face",IF('Perfo DR420 DP'!B12<=9,AA9,IF(AND('Perfo DR420 DP'!B12>9,'Perfo DR420 DP'!B12<20),AA9*0.85,IF(AND('Perfo DR420 DP'!B12>19,'Perfo DR420 DP'!B12<30),AA9*0.65,IF('Perfo DR420 DP'!B12>29,AA9*0.55,0))))) -> 453.75
A12: 2500 | B12: -13 | C12: -20 | D12: 300 | E12: 560 | F12: 145 | G12: 275 | H12: =F12+(($H$7-$F$7)*(D12-F12)/($D$7-$F$7)) -> 300 | I12: =G12+(($H$7-$F$7)*(E12-G12)/($D$7-$F$7)) -> 560 | J12: =IF(AND($J$7>=C12,$J$7<=C13),(H12+(($J$7-C12)*(H13-H12)/(C13-C12))),IF(AND($J$7>=C13,$J$7<=C14),(H13+(($J$7)*(H14-H13)/(C13-C12))),"error")) -> 337.5 | K12: =IF(AND($J$7>=C12,$J$7<=C13),(I12+(($J$7-C12)*(I13-I12)/(C13-C12))),IF(AND($J$7>=C13,$J$7<=C14),(I13+(($J$7)*(I14-I13)/(C13-C12))),"error")) -> 631.25 | O12: 4000 | P12: -13 | Q12: -20 | R12: 205 | S12: 475 | T12: 160 | U12: 395 | V12: =T12+(($V$7-$T$7)*(R12-T12)/($R$7-$T$7)) -> 205 | W12: =U12+(($H$7-$F$7)*(S12-U12)/($D$7-$F$7)) -> 475 | X12: =IF(AND($X$7>=Q12,$J$7<=Q13),(V12+(($X$7-Q12)*(V13-V12)/(Q13-Q12))),IF(AND($X$7>=Q13,$X$7<=Q14),(V13+(($X$7)*(V14-V13)/(Q13-Q12))),"error")) -> 220 | Y12: =IF(AND($X$7>=Q12,$J$7<=Q13),(W12+(($X$7-Q12)*(W13-W12)/(Q13-Q12))),IF(AND($X$7>=Q13,$X$7<=Q14),(W13+(($X$7)*(W14-W13)/(Q13-Q12))),"error")) -> 497.5 | AC12: intermédiaires | AD12: ='Perfo DR420 DP'!A12 -> Face | AE12: =IF(AD12="Arrière",(1+(AD13/20))*L9) -> FALSE | AF12: =IF('Perfo DR420 DP'!A12="Arrière",M9*(1+('Perfo DR420 DP'!B12/20))) -> FALSE | AG12: =IF('Perfo DR420 DP'!A12="Arrière",Z9*(1+('Perfo DR420 DP'!B12/20))) -> FALSE | AH12: =IF('Perfo DR420 DP'!A12="Arrière",AA9*(1+('Perfo DR420 DP'!B12/20))) -> FALSE
B13: 7 | C13: 0 | D13: 350 | E13: 655 | F13: 170 | G13: 320 | H13: =F13+(($H$7-$F$7)*(D13-F13)/($D$7-$F$7)) -> 350 | I13: =G13+(($H$7-$F$7)*(E13-G13)/($D$7-$F$7)) -> 655 | P13: 7 | Q13: 0 | R13: 225 | S13: 505 | T13: 175 | U13: 420 | V13: =T13+(($V$7-$T$7)*(R13-T13)/($R$7-$T$7)) -> 225 | W13: =U13+(($H$7-$F$7)*(S13-U13)/($D$7-$F$7)) -> 505 | AD13: ='Perfo DR420 DP'!B12 -> 0
B14: 27 | C14: 20 | D14: 405 | E14: 760 | F14: 195 | G14: 370 | H14: =F14+(($H$7-$F$7)*(D14-F14)/($D$7-$F$7)) -> 405 | I14: =G14+(($H$7-$F$7)*(E14-G14)/($D$7-$F$7)) -> 760 | P14: 27 | Q14: 20 | R14: 240 | S14: 535 | T14: 185 | U14: 440 | V14: =T14+(($V$7-$T$7)*(R14-T14)/($R$7-$T$7)) -> 240 | W14: =U14+(($H$7-$F$7)*(S14-U14)/($D$7-$F$7)) -> 535
A15: 5000 | B15: -21 | C15: -20 | D15: 370 | E15: 695 | F15: 180 | G15: 340 | H15: =F15+(($H$7-$F$7)*(D15-F15)/($D$7-$F$7)) -> 370 | I15: =G15+(($H$7-$F$7)*(E15-G15)/($D$7-$F$7)) -> 695 | J15: =IF(AND($J$7>=C15,$J$7<=C16),(H15+(($J$7-C15)*(H16-H15)/(C16-C15))),IF(AND($J$7>=C16,$J$7<=C17),(H16+(($J$7)*(H17-H16)/(C16-C15))),"error")) -> 418.75 | K15: =IF(AND($J$7>=C15,$J$7<=C16),(I15+(($J$7-C15)*(I16-I15)/(C16-C15))),IF(AND($J$7>=C16,$J$7<=C17),(I16+(($J$7)*(I17-I16)/(C16-C15))),"error")) -> 788.75 | O15: 8000 | P15: -21 | Q15: -20 | R15: 235 | S15: 525 | T15: 180 | U15: 430 | V15: =T15+(($V$7-$T$7)*(R15-T15)/($R$7-$T$7)) -> 235 | W15: =U15+(($H$7-$F$7)*(S15-U15)/($D$7-$F$7)) -> 525 | X15: =IF(AND($X$7>=Q15,$J$7<=Q16),(V15+(($X$7-Q15)*(V16-V15)/(Q16-Q15))),IF(AND($X$7>=Q16,$X$7<=Q17),(V16+(($X$7)*(V17-V16)/(Q16-Q15))),"error")) -> 246.25 | Y15: =IF(AND($X$7>=Q15,$J$7<=Q16),(W15+(($X$7-Q15)*(W16-W15)/(Q16-Q15))),IF(AND($X$7>=Q16,$X$7<=Q17),(W16+(($X$7)*(W17-W16)/(Q16-Q15))),"error")) -> 547.5
B16: -1 | C16: 0 | D16: 435 | E16: 820 | F16: 215 | G16: 400 | H16: =F16+(($H$7-$F$7)*(D16-F16)/($D$7-$F$7)) -> 435 | I16: =G16+(($H$7-$F$7)*(E16-G16)/($D$7-$F$7)) -> 820 | P16: -1 | Q16: 0 | R16: 250 | S16: 555 | T16: 195 | U16: 460 | V16: =T16+(($V$7-$T$7)*(R16-T16)/($R$7-$T$7)) -> 250 | W16: =U16+(($H$7-$F$7)*(S16-U16)/($D$7-$F$7)) -> 555
B17: 19 | C17: 20 | D17: 505 | E17: 950 | F17: 250 | G17: 465 | H17: =F17+(($H$7-$F$7)*(D17-F17)/($D$7-$F$7)) -> 505 | I17: =G17+(($H$7-$F$7)*(E17-G17)/($D$7-$F$7)) -> 950 | P17: 19 | Q17: 20 | R17: 270 | S17: 590 | T17: 210 | U17: 485 | V17: =T17+(($V$7-$T$7)*(R17-T17)/($R$7-$T$7)) -> 270 | W17: =U17+(($H$7-$F$7)*(S17-U17)/($D$7-$F$7)) -> 590
A18: 8000 | B18: -21 | C18: -20 | D18: 490 | E18: 920 | F18: 240 | G18: 450 | H18: =F18+(($H$7-$F$7)*(D18-F18)/($D$7-$F$7)) -> 490 | I18: =G18+(($H$7-$F$7)*(E18-G18)/($D$7-$F$7)) -> 920 | J18: =IF(AND($J$7>=C18,$J$7<=C19),(H18+(($J$7-C18)*(H19-H18)/(C19-C18))),IF(AND($J$7>=C19,$J$7<=C20),(H19+(($J$7)*(H20-H19)/(C19-C18))),"error")) -> 553.75 | K18: =IF(AND($J$7>=C18,$J$7<=C19),(I18+(($J$7-C18)*(I19-I18)/(C19-C18))),IF(AND($J$7>=C19,$J$7<=C20),(I19+(($J$7)*(I20-I19)/(C19-C18))),"error")) -> 1040
B19: -1 | C19: 0 | D19: 575 | E19: 1080 | F19: 280 | G19: 525 | H19: =F19+(($H$7-$F$7)*(D19-F19)/($D$7-$F$7)) -> 575 | I19: =G19+(($H$7-$F$7)*(E19-G19)/($D$7-$F$7)) -> 1080
B20: 19 | C20: 20 | D20: 670 | E20: 1260 | F20: 330 | G20: 620 | H20: =F20+(($H$7-$F$7)*(D20-F20)/($D$7-$F$7)) -> 670 | I20: =G20+(($H$7-$F$7)*(E20-G20)/($D$7-$F$7)) -> 1260
R22: Face | S22: Arrière | U22: <-- nom sensvent420 | W22: Type de piste | X22: Etat piste
R23: 0 | S23: 0 | W23: Dure | X23: Sèche
R24: 5 | S24: 2 | W24: Herbe | X24: Mouillée
R25: 10 | S25: 4
R26: 15 | S26: 6
R27: 20 | S27: 8
R28: 25 | S28: 10
R29: 30
R31: nom face420 | S31: nom arrière420

Sheet Méthode
A18: Méthode de calcul : exemple pour le DR460
A20: Remarque : les 3 températures données pour chaque altitude sont les Δ ISA -20, 0 et 20°. On doit raisonner en Δ ISA et non en T° brutes ! Le fichier calcule donc le Δ ISA lorsque vous entrez la T° du jour en tenant compte de l'altitude
A22: A. Calcul pour 0ft et 1050kg
A23: 1. Calcul de Δdistance/ΔISA
A24: La Δdistance dépend de la T° : elle est calculée selon l'intervalle dans lequel se situe la ΔISA du jour
A25: - exemple pour distance de décollage à 0ft, si T° est entre -5° et 15°C (c’est-à-dire si ΔISA est entre -20 et 0°C), Δdistance/ΔISA = 3m/°C (voir annotations sur le tableau plus haut)
A26: si T° est entre 15° et 35° (ΔISA entre 0 et 20°C) : Δdistance/ΔISA = 3.25m/°C
A27: 2. Calcul de ΔTj entre la ΔISA du jour et la ΔISA la plus basse de l'intervalle dans lequel se situe la ΔISA du jour
A28: Exemple si T° = 7°C à 0ft. ΔISA = -8°C (7°-15°) : ΔTj = (-8-(-20)) = 12°C
A29: si T° = 20°C. ΔISA = 5°C (20°-15°) : ΔTj=(5-0)=5°C
A30: 3. Calcul des distances :
A31: Distance correspondant à la ΔISA la plus basse de la gamme + (ΔTj x Δdistance/ΔISA)
... A41: Ce tableur a été créé par Denis Combes pour le DACA. Il a été modifié et customisé par Philippe Laverne pour le CAPAM
