Workbook

Sheet Perfos C172S F-HAAM
A1: F-HAAM | F1: Performances décollage et atterrissage Cessna 172S
A3: 1. Renseigner les cases vertes 2. Lire les performances | G3: Attention, ce fichier n'est pas fourni par le constructeur. Il ne doit pas être le seul outil de préparation des performances de votre vol. Référez-vous au manuel de vol de l'avion afin de vérifier systématiquement les performances calculées.
A5: Altitude aérodrome (ft QNH) | B5: QNH | C5: Altitude pression (ft) | E5: Masse avion (kg)
A6: 0 | B6: 1013 | C6: =((1013-B6)*(IF(A6<3000,28,30))+A6) -> 0 | E6: 1150
C7: =IF(C6>8000,"Dépassement altitude ! (Max=8000ft)","zp max = 8000ftSi<0 : calcul fait avec 0ft") -> zp max = 8000ftSi<0 : calcul fait avec 0ft | E7: =IF(E6<=1158,"Maxi T/O 1158 Kg Maxi LND 1158 Kg","Masse maxi dépassée") -> Maxi T/O 1158 Kg Maxi LND 1158 Kg | G7: Décollage | I7: Atterrissage
A8: Température (°C) | B8: ISA (°C) | C8: ΔISA (°C) | G8: Volets 10° | I8: Masse 1158 Kg - volets 30° - Vi 61 Kt
A9: 10 | B9: =15+(($C$6/1000)*(-2)) -> 15 | C9: =A9-B9 -> -5 | G9: Plein gaz avant lâcher des freins, piste sèche et de niveau. Appauvrir au dessus de 3000 ft | I9: freinage maximum, piste sèche et de niveau. Si atterrissage volets 0 - Vi+9 Kts distances + 35%
G10: Performances brutes de décollage | I10: Performances brutes d'atterrissage
A11: Sens du vent [menu déroulant] | B11: Vitesse du vent (kt) Composante face ou arrière | C11: Type de piste [menu déroulant] | E11: Nb : les corrections pour pistes mouillées et pistes en pente ne sont pas données par le manuel de vol. | G11: Distance de roulement (m) | H11: Distance de décollage (m) (passage 50ft) | I11: Distance de roulement (m) | J11: Distance d'atterrissage (m) (passage 50ft)
A12: Face | B12: 0 | C12: Dure | G12: =IFERROR('Calculs C172S'!AE10,"ALT or TEMP out of range!") -> 277.52941 | H12: =IFERROR('Calculs C172S'!AF10,"ALT or TEMP out of range!") -> 472.70588 | I12: =IFERROR('Calculs C172S'!AG10,"ALT or TEMP out of range!") -> 172 | J12: =IFERROR('Calculs C172S'!AH10,"ALT or TEMP out of range!") -> 402
C13: Piste sèche | G13: Pour un décollage volets UP augmenter ces valeurs de 11% environ
A14: Performances brutes = celles données par le manuel de vol. Elles correspondent à un avion neuf et réalisées par un pilote d'essai dans des conditions différentes de notre utilisation normale. | G14: Performances de décollage factorisées (+30%) | I14: Performances d'atterrissage factorisées (+30%)
A15: Il est conseillé de factoriser ces valeurs pour plus de sécurité. Au pilote de décider. Le tableau ci-contre majore les distances de 30% au décollage et de 30% sur le roulage à l'atterrissage. | G15: =G12*1.3 -> 360.78824 | H15: =H12*1.3 -> 614.51765 | I15: =I12*1.3 -> 223.6 | J15: =J12*1.3 -> 522.6
H16: Comparer à TODA | J16: Comparer à LDA
G17: Prendre connaissance du Manuel de Vol: Normal Procedures / Amplified Procedures / Take Off / Wing Flap Setting

Sheet Calculs C172S
A1: F-HAAM
A4: Performances de décollage | S4: Performances d'atterrissage
AE5: Prise en compte du vent et type de piste
C6: Masse (Kg) | E6: Masse (Kg) | G6: Masse (Kg) | I6: Masse du jour (Kg) | M6: Température du jour | O6: Field Pressure Alt (ft) | T6: Masse (Kg) | V6: Calcul intermédiaire | Z6: Field Pressure Alt (ft)
A7: Altitude Pression (ft) | B7: T° (°C) | C7: 1158 | E7: 1090 | G7: 999 | I7: ='Perfos C172S F-HAAM'!E6 -> 1150 | M7: ='Perfos C172S F-HAAM'!$A$9 -> 10 | O7: =IF('Perfos C172S F-HAAM'!$C$6<0,0,'Perfos C172S F-HAAM'!$C$6) -> 0 | R7: Altitude Pression (ft) | S7: T° (°C) | T7: 1158 | Z7: =IF('Perfos C172S F-HAAM'!$C$6<0,0,'Perfos C172S F-HAAM'!$C$6) -> 0 | AE7: Performances brutes de décollage | AG7: Performances brutes d'atterrissage
C8: Distance de roulement (m) | D8: Distance de décollage (m) (passage 50ft) | E8: Distance de roulement (m) | F8: Distance de décollage (m) (passage 50ft) | G8: Distance de roulement (m) | H8: Distance de décollage (m) (passage 50ft) | I8: Distance de roulement (m) | J8: Distance de décollage (m) (passage 50ft) | K8: Calcul intermédiaire | M8: Distance de roulement (m) | N8: Distance de décollage (m) (passage 50ft) | O8: Distance de roulement (m) | P8: Distance de décollage (m) (passage 50ft) | T8: Distance de roulement (m) | U8: Distance d'atterrissage (m) (passage 50ft) | V8: Distance de roulement (m) | W8: Distance d'atterrissage (m) (passage 50ft) | X8: Distance de roulement (m) | Y8: Distance de décollage (m) (passage 50ft) | Z8: Distance de roulement (m) | AA8: Distance d'atterrissage (m) (passage 50ft) | AE8: Distance de roulement (m) | AF8: Distance de décollage (m) (passage 50ft) | AG8: Distance de roulement (m) | AH8: Distance d'atterrissage (m) (passage 50ft)
A9: 0 | B9: 0 | C9: 262 | D9: 447 | E9: 227 | F9: 389 | G9: 186 | H9: 322 | I9: =IF(I7>=1090,E9+(C9-E9)/68*(I7-1090),G9+(E9-G9)/91*(I7-999)) -> 257.88235 | J9: =IF(I7>=1090,F9+(D9-F9)/68*(I7-1090),H9+(F9-H9)/91*(I7-999)) -> 440.17647 | K9: =IF(M7<=0,I9,0) -> 0 | L9: =IF(M7<=0,J9,0) -> 0 | M9: =SUM(K9:K13) -> 277.52941 | N9: =SUM(L9:L13) -> 472.70588 | O9: =O42+O44 -> 277.52941 | P9: =P42+P44 -> 472.70588 | R9: 0 | S9: 0 | T9: 166 | U9: 393 | V9: =IF(M7<=0,T9,0) -> 0 | W9: =IF(M7<=0,U9,0) -> 0 | X9: =SUM(V9:V13) -> 172 | Y9: =SUM(W9:W13) -> 402 | Z9: =Z42+Z44 -> 172 | AA9: =AA42+AA44 -> 402 | AD9: Vent | AE9: =IF('Perfos C172S F-HAAM'!$A$12="Face",(1-('Perfos C172S F-HAAM'!B12/90))*'Calculs C172S'!O9,IF('Perfos C172S F-HAAM'!$A$12="Arrière",(1+('Perfos C172S F-HAAM'!B12/20))*'Calculs C172S'!O9)) -> 277.52941 | AF9: =IF('Perfos C172S F-HAAM'!$A$12="Face",(1-('Perfos C172S F-HAAM'!B12/90))*'Calculs C172S'!P9,IF('Perfos C172S F-HAAM'!$A$12="Arrière",(1+('Perfos C172S F-HAAM'!B12/20))*'Calculs C172S'!P9)) -> 472.70588 | AG9: =IF('Perfos C172S F-HAAM'!$A$12="Face",(1-('Perfos C172S F-HAAM'!B12/90))*'Calculs C172S'!Z9,IF('Perfos C172S F-HAAM'!$A$12="Arrière",(1+('Perfos C172S F-HAAM'!B12/20))*'Calculs C172S'!Z9)) -> 172 | AH9: =IF('Perfos C172S F-HAAM'!$A$12="Face",(1-('Perfos C172S F-HAAM'!B12/90))*'Calculs C172S'!AA9,IF('Perfos C172S F-HAAM'!$A$12="Arrière",(1+('Perfos C172S F-HAAM'!B12/20))*'Calculs C172S'!AA9)) -> 402
B10: 10 | C10: 282 | D10: 480 | E10: 244 | F10: 418 | G10: 200 | H10: 344 | I10: =IF(I7>=1090,E10+(C10-E10)/68*(I7-1090),G10+(E10-G10)/91*(I7-999)) -> 277.52941 | J10: =IF(I7>=1090,F10+(D10-F10)/68*(I7-1090),H10+(F10-H10)/91*(I7-999)) -> 472.70588 | K10: =IF(AND(M7>0,M7<=10),I9+((I10-I9)/10*M7),0) -> 277.52941 | L10: =IF(AND(M7>0,M7<=10),J9+((J10-J9)/10*M7),0) -> 472.70588 | S10: 10 | T10: 172 | U10: 402 | V10: =IF(AND(M7>0,M7<=10),T9+((T10-T9)/10*M7),0) -> 172 | W10: =IF(AND(M7>0,M7<=10),U9+((U10-U9)/10*M7),0) -> 402 | AD10: Type piste | AE10: =IF(COUNTIF('Perfos C172S F-HAAM'!$C$12,"Dure"),AE9,AE9*1.15) -> 277.52941 | AF10: =(AE10+(AF9-AE9)) -> 472.70588 | AG10: =IF(COUNTIF('Perfos C172S F-HAAM'!$C$12,"Dure"),AG9,AG9*1.45) -> 172 | AH10: =(AG10+(AH9-AG9)) -> 402
B11: 20 | C11: 303 | D11: 515 | E11: 262 | F11: 448 | G11: 215 | H11: 367 | I11: =IF(I7>=1090,E11+(C11-E11)/68*(I7-1090),G11+(E11-G11)/91*(I7-999)) -> 298.17647 | J11: =IF(I7>=1090,F11+(D11-F11)/68*(I7-1090),H11+(F11-H11)/91*(I7-999)) -> 507.11765 | K11: =IF(AND(M7>10,M7<=20),I10+(I11-I10)/10*(M7-10),0) -> 0 | L11: =IF(AND(M7>10,M7<=20),J10+(J11-J10)/10*(M7-10),0) -> 0 | S11: 20 | T11: 178 | U11: 411 | V11: =IF(AND(M7>10,M7<=20),T10+(T11-T10)/10*(M7-10),0) -> 0 | W11: =IF(AND(M7>10,M7<=20),U10+(U11-U10)/10*(M7-10),0) -> 0
B12: 30 | C12: 326 | D12: 552 | E12: 282 | F12: 479 | G12: 232 | H12: 393 | I12: =IF(I7>=1090,E12+(C12-E12)/68*(I7-1090),G12+(E12-G12)/91*(I7-999)) -> 320.82353 | J12: =IF(I7>=1090,F12+(D12-F12)/68*(I7-1090),H12+(F12-H12)/91*(I7-999)) -> 543.41176 | K12: =IF(AND(M7>20,M7<=30),I11+(I12-I11)/10*(M7-20),0) -> 0 | L12: =IF(AND(M7>20,M7<=30),J11+(J12-J11)/10*(M7-20),0) -> 0 | S12: 30 | T12: 184 | U12: 421 | V12: =IF(AND(M7>20,M7<=30),T11+(T12-T11)/10*(M7-20),0) -> 0 | W12: =IF(AND(M7>20,M7<=30),U11+(U12-U11)/10*(M7-20),0) -> 0
B13: 40 | C13: 351 | D13: 593 | E13: 303 | F13: 514 | G13: 248 | H13: 421 | I13: =IF(I7>=1090,E13+(C13-E13)/68*(I7-1090),G13+(E13-G13)/91*(I7-999)) -> 345.35294 | J13: =IF(I7>=1090,F13+(D13-F13)/68*(I7-1090),H13+(F13-H13)/91*(I7-999)) -> 583.70588 | K13: =IF(AND(M7>30,M7<=40),I12+(I13-I12)/10*(M7-30),0) -> 0 | L13: =IF(AND(M7>30,M7<=40),J12+(J13-J12)/10*(M7-30),0) -> 0 | S13: 40 | T13: 191 | U13: 431 | V13: =IF(AND(M7>30,M7<=40),T12+(T13-T12)/10*(M7-30),0) -> 0 | W13: =IF(AND(M7>30,M7<=40),U12+(U13-U12)/10*(M7-30),0) -> 0
A14: 1000 | B14: 0 | C14: 287 | D14: 488 | E14: 247 | F14: 424 | G14: 203 | H14: 349 | I14: =IF(I7>=1090,E14+(C14-E14)/68*(I7-1090),G14+(E14-G14)/91*(I7-999)) -> 282.29412 | J14: =IF(I7>=1090,F14+(D14-F14)/68*(I7-1090),H14+(F14-H14)/91*(I7-999)) -> 480.47059 | K14: =IF(M7<=0,I14,0) -> 0 | L14: =IF(M7<=0,J14,0) -> 0 | M14: =SUM(K14:K18) -> 303.17647 | N14: =SUM(L14:L18) -> 516 | R14: 1000 | S14: 0 | T14: 172 | U14: 402 | V14: =IF(M7<=0,T14,0) -> 0 | W14: =IF(M7<=0,U14,0) -> 0 | X14: =SUM(V14:V18) -> 178 | Y14: =SUM(W14:W18) -> 411
B15: 10 | C15: 308 | D15: 524 | E15: 267 | F15: 456 | G15: 219 | H15: 375 | I15: =IF(I7>=1090,E15+(C15-E15)/68*(I7-1090),G15+(E15-G15)/91*(I7-999)) -> 303.17647 | J15: =IF(I7>=1090,F15+(D15-F15)/68*(I7-1090),H15+(F15-H15)/91*(I7-999)) -> 516 | K15: =IF(AND(M7>0,M7<=10),I14+((I15-I14)/10*M7),0) -> 303.17647 | L15: =IF(AND(M7>0,M7<=10),J14+((J15-J14)/10*M7),0) -> 516 | S15: 10 | T15: 178 | U15: 411 | V15: =IF(AND(M7>0,M7<=10),T14+((T15-T14)/10*M7),0) -> 178 | W15: =IF(AND(M7>0,M7<=10),U14+((U15-U14)/10*M7),0) -> 411
B16: 20 | C16: 332 | D16: 564 | E16: 287 | F16: 489 | G16: 235 | H16: 401 | I16: =IF(I7>=1090,E16+(C16-E16)/68*(I7-1090),G16+(E16-G16)/91*(I7-999)) -> 326.70588 | J16: =IF(I7>=1090,F16+(D16-F16)/68*(I7-1090),H16+(F16-H16)/91*(I7-999)) -> 555.17647 | K16: =IF(AND(M7>10,M7<=20),I15+(I16-I15)/10*(M7-10),0) -> 0 | L16: =IF(AND(M7>10,M7<=20),J15+(J16-J15)/10*(M7-10),0) -> 0 | S16: 20 | T16: 184 | U16: 422 | V16: =IF(AND(M7>10,M7<=20),T15+(T16-T15)/10*(M7-10),0) -> 0 | W16: =IF(AND(M7>10,M7<=20),U15+(U16-U15)/10*(M7-10),0) -> 0
B17: 30 | C17: 357 | D17: 607 | E17: 308 | F17: 524 | G17: 253 | H17: 430 | I17: =IF(I7>=1090,E17+(C17-E17)/68*(I7-1090),G17+(E17-G17)/91*(I7-999)) -> 351.23529 | J17: =IF(I7>=1090,F17+(D17-F17)/68*(I7-1090),H17+(F17-H17)/91*(I7-999)) -> 597.23529 | K17: =IF(AND(M7>20,M7<=30),I16+(I17-I16)/10*(M7-20),0) -> 0 | L17: =IF(AND(M7>20,M7<=30),J16+(J17-J16)/10*(M7-20),0) -> 0 | S17: 30 | T17: 191 | U17: 433 | V17: =IF(AND(M7>20,M7<=30),T16+(T17-T16)/10*(M7-20),0) -> 0 | W17: =IF(AND(M7>20,M7<=30),U16+(U17-U16)/10*(M7-20),0) -> 0
B18: 40 | C18: 384 | D18: 651 | E18: 331 | F18: 562 | G18: 271 | H18: 459 | I18: =IF(I7>=1090,E18+(C18-E18)/68*(I7-1090),G18+(E18-G18)/91*(I7-999)) -> 377.76471 | J18: =IF(I7>=1090,F18+(D18-F18)/68*(I7-1090),H18+(F18-H18)/91*(I7-999)) -> 640.52941 | K18: =IF(AND(M7>30,M7<=40),I17+(I18-I17)/10*(M7-30),0) -> 0 | L18: =IF(AND(M7>30,M7<=40),J17+(J18-J17)/10*(M7-30),0) -> 0 | S18: 40 | T18: 198 | U18: 442 | V18: =IF(AND(M7>30,M7<=40),T17+(T18-T17)/10*(M7-30),0) -> 0 | W18: =IF(AND(M7>30,M7<=40),U17+(U18-U17)/10*(M7-30),0) -> 0
A19: 2000 | B19: 0 | C19: 312 | D19: 535 | E19: 270 | F19: 463 | G19: 221 | H19: 381 | I19: =IF(I7>=1090,E19+(C19-E19)/68*(I7-1090),G19+(E19-G19)/91*(I7-999)) -> 307.05882 | J19: =IF(I7>=1090,F19+(D19-F19)/68*(I7-1090),H19+(F19-H19)/91*(I7-999)) -> 526.52941 | K19: =IF(M7<=0,I19,0) -> 0 | L19: =IF(M7<=0,J19,0) -> 0 | M19: =SUM(K19:K23) -> 332.47059 | N19: =SUM(L19:L23) -> 566.82353 | R19: 2000 | S19: 0 | T19: 178 | U19: 413 | V19: =IF(M7<=0,T19,0) -> 0 | W19: =IF(M7<=0,U19,0) -> 0 | X19: =SUM(V19:V23) -> 186 | Y19: =SUM(W19:W23) -> 422
B20: 10 | C20: 338 | D20: 576 | E20: 291 | F20: 498 | G20: 239 | H20: 408 | I20: =IF(I7>=1090,E20+(C20-E20)/68*(I7-1090),G20+(E20-G20)/91*(I7-999)) -> 332.47059 | J20: =IF(I7>=1090,F20+(D20-F20)/68*(I7-1090),H20+(F20-H20)/91*(I7-999)) -> 566.82353 | K20: =IF(AND(M7>0,M7<=10),I19+((I20-I19)/10*M7),0) -> 332.47059 | L20: =IF(AND(M7>0,M7<=10),J19+((J20-J19)/10*M7),0) -> 566.82353 | S20: 10 | T20: 186 | U20: 422 | V20: =IF(AND(M7>0,M7<=10),T19+((T20-T19)/10*M7),0) -> 186 | W20: =IF(AND(M7>0,M7<=10),U19+((U20-U19)/10*M7),0) -> 422
B21: 20 | C21: 364 | D21: 620 | E21: 314 | F21: 536 | G21: 258 | H21: 437 | I21: =IF(I7>=1090,E21+(C21-E21)/68*(I7-1090),G21+(E21-G21)/91*(I7-999)) -> 358.11765 | J21: =IF(I7>=1090,F21+(D21-F21)/68*(I7-1090),H21+(F21-H21)/91*(I7-999)) -> 610.11765 | K21: =IF(AND(M7>10,M7<=20),I20+(I21-I20)/10*(M7-10),0) -> 0 | L21: =IF(AND(M7>10,M7<=20),J20+(J21-J20)/10*(M7-10),0) -> 0 | S21: 20 | T21: 192 | U21: 433 | V21: =IF(AND(M7>10,M7<=20),T20+(T21-T20)/10*(M7-10),0) -> 0 | W21: =IF(AND(M7>10,M7<=20),U20+(U21-U20)/10*(M7-10),0) -> 0
B22: 30 | C22: 392 | D22: 668 | E22: 338 | F22: 576 | G22: 276 | H22: 469 | I22: =IF(I7>=1090,E22+(C22-E22)/68*(I7-1090),G22+(E22-G22)/91*(I7-999)) -> 385.64706 | J22: =IF(I7>=1090,F22+(D22-F22)/68*(I7-1090),H22+(F22-H22)/91*(I7-999)) -> 657.17647 | K22: =IF(AND(M7>20,M7<=30),I21+(I22-I21)/10*(M7-20),0) -> 0 | L22: =IF(AND(M7>20,M7<=30),J21+(J22-J21)/10*(M7-20),0) -> 0 | S22: 30 | T22: 198 | U22: 443 | V22: =IF(AND(M7>20,M7<=30),T21+(T22-T21)/10*(M7-20),0) -> 0 | W22: =IF(AND(M7>20,M7<=30),U21+(U22-U21)/10*(M7-20),0) -> 0
B23: 40 | C23: 421 | D23: 718 | E23: 363 | F23: 619 | G23: 297 | H23: 503 | I23: =IF(I7>=1090,E23+(C23-E23)/68*(I7-1090),G23+(E23-G23)/91*(I7-999)) -> 414.17647 | J23: =IF(I7>=1090,F23+(D23-F23)/68*(I7-1090),H23+(F23-H23)/91*(I7-999)) -> 706.35294 | K23: =IF(AND(M7>30,M7<=40),I22+(I23-I22)/10*(M7-30),0) -> 0 | L23: =IF(AND(M7>30,M7<=40),J22+(J23-J22)/10*(M7-30),0) -> 0 | S23: 40 | T23: 204 | U23: 454 | V23: =IF(AND(M7>30,M7<=40),T22+(T23-T22)/10*(M7-30),0) -> 0 | W23: =IF(AND(M7>30,M7<=40),U22+(U23-U22)/10*(M7-30),0) -> 0
A24: 3000 | B24: 0 | C24: 343 | D24: 587 | E24: 296 | F24: 507 | G24: 242 | H24: 416 | I24: =IF(I7>=1090,E24+(C24-E24)/68*(I7-1090),G24+(E24-G24)/91*(I7-999)) -> 337.47059 | J24: =IF(I7>=1090,F24+(D24-F24)/68*(I7-1090),H24+(F24-H24)/91*(I7-999)) -> 577.58824 | K24: =IF(M7<=0,I24,0) -> 0 | L24: =IF(M7<=0,J24,0) -> 0 | M24: =SUM(K24:K28) -> 364.11765 | N24: =SUM(L24:L28) -> 623.76471 | R24: 3000 | S24: 0 | T24: 186 | U24: 422 | V24: =IF(M7<=0,T24,0) -> 0 | W24: =IF(M7<=0,U24,0) -> 0 | X24: =SUM(V24:V28) -> 192 | Y24: =SUM(W24:W28) -> 434
B25: 10 | C25: 370 | D25: 634 | E25: 320 | F25: 547 | G25: 262 | H25: 447 | I25: =IF(I7>=1090,E25+(C25-E25)/68*(I7-1090),G25+(E25-G25)/91*(I7-999)) -> 364.11765 | J25: =IF(I7>=1090,F25+(D25-F25)/68*(I7-1090),H25+(F25-H25)/91*(I7-999)) -> 623.76471 | K25: =IF(AND(M7>0,M7<=10),I24+((I25-I24)/10*M7),0) -> 364.11765 | L25: =IF(AND(M7>0,M7<=10),J24+((J25-J24)/10*M7),0) -> 623.76471 | S25: 10 | T25: 192 | U25: 434 | V25: =IF(AND(M7>0,M7<=10),T24+((T25-T24)/10*M7),0) -> 192 | W25: =IF(AND(M7>0,M7<=10),U24+((U25-U24)/10*M7),0) -> 434
B26: 20 | C26: 399 | D26: 683 | E26: 344 | F26: 588 | G26: 282 | H26: 479 | I26: =IF(I7>=1090,E26+(C26-E26)/68*(I7-1090),G26+(E26-G26)/91*(I7-999)) -> 392.52941 | J26: =IF(I7>=1090,F26+(D26-F26)/68*(I7-1090),H26+(F26-H26)/91*(I7-999)) -> 671.82353 | K26: =IF(AND(M7>10,M7<=20),I25+(I26-I25)/10*(M7-10),0) -> 0 | L26: =IF(AND(M7>10,M7<=20),J25+(J26-J25)/10*(M7-10),0) -> 0 | S26: 20 | T26: 200 | U26: 445 | V26: =IF(AND(M7>10,M7<=20),T25+(T26-T25)/10*(M7-10),0) -> 0 | W26: =IF(AND(M7>10,M7<=20),U25+(U26-U25)/10*(M7-10),0) -> 0
B27: 30 | C27: 430 | D27: 738 | E27: 370 | F27: 634 | G27: 303 | H27: 514 | I27: =IF(I7>=1090,E27+(C27-E27)/68*(I7-1090),G27+(E27-G27)/91*(I7-999)) -> 422.94118 | J27: =IF(I7>=1090,F27+(D27-F27)/68*(I7-1090),H27+(F27-H27)/91*(I7-999)) -> 725.76471 | K27: =IF(AND(M7>20,M7<=30),I26+(I27-I26)/10*(M7-20),0) -> 0 | L27: =IF(AND(M7>20,M7<=30),J26+(J27-J26)/10*(M7-20),0) -> 0 | S27: 30 | T27: 206 | U27: 456 | V27: =IF(AND(M7>20,M7<=30),T26+(T27-T26)/10*(M7-20),0) -> 0 | W27: =IF(AND(M7>20,M7<=30),U26+(U27-U26)/10*(M7-20),0) -> 0
B28: 40 | C28: 462 | D28: 794 | E28: 398 | F28: 680 | G28: 325 | H28: 550 | I28: =IF(I7>=1090,E28+(C28-E28)/68*(I7-1090),G28+(E28-G28)/91*(I7-999)) -> 454.47059 | J28: =IF(I7>=1090,F28+(D28-F28)/68*(I7-1090),H28+(F28-H28)/91*(I7-999)) -> 780.58824 | K28: =IF(AND(M7>30,M7<=40),I27+(I28-I27)/10*(M7-30),0) -> 0 | L28: =IF(AND(M7>30,M7<=40),J27+(J28-J27)/10*(M7-30),0) -> 0 | S28: 40 | T28: 212 | U28: 466 | V28: =IF(AND(M7>30,M7<=40),T27+(T28-T27)/10*(M7-30),0) -> 0 | W28: =IF(AND(M7>30,M7<=40),U27+(U28-U27)/10*(M7-30),0) -> 0
A29: 4000 | B29: 0 | C29: 376 | D29: 646 | E29: 325 | F29: 558 | G29: 265 | H29: 454 | I29: =IF(I7>=1090,E29+(C29-E29)/68*(I7-1090),G29+(E29-G29)/91*(I7-999)) -> 370 | J29: =IF(I7>=1090,F29+(D29-F29)/68*(I7-1090),H29+(F29-H29)/91*(I7-999)) -> 635.64706 | K29: =IF(M7<=0,I29,0) -> 0 | L29: =IF(M7<=0,J29,0) -> 0 | M29: =SUM(K29:K33) -> 400.41176 | N29: =SUM(L29:L33) -> 662 | R29: 4000 | S29: 0 | T29: 192 | U29: 434 | V29: =IF(M7<=0,T29,0) -> 0 | W29: =IF(M7<=0,U29,0) -> 0 | X29: =SUM(V29:V33) -> 200 | Y29: =SUM(W29:W33) -> 445
B30: 10 | C30: 407 | D30: 670 | E30: 351 | F30: 602 | G30: 287 | H30: 489 | I30: =IF(I7>=1090,E30+(C30-E30)/68*(I7-1090),G30+(E30-G30)/91*(I7-999)) -> 400.41176 | J30: =IF(I7>=1090,F30+(D30-F30)/68*(I7-1090),H30+(F30-H30)/91*(I7-999)) -> 662 | K30: =IF(AND(M7>0,M7<=10),I29+((I30-I29)/10*M7),0) -> 400.41176 | L30: =IF(AND(M7>0,M7<=10),J29+((J30-J29)/10*M7),0) -> 662 | S30: 10 | T30: 200 | U30: 445 | V30: =IF(AND(M7>0,M7<=10),T29+((T30-T29)/10*M7),0) -> 200 | W30: =IF(AND(M7>0,M7<=10),U29+((U30-U29)/10*M7),0) -> 445
B31: 20 | C31: 439 | D31: 756 | E31: 378 | F31: 649 | G31: 308 | H31: 526 | I31: =IF(I7>=1090,E31+(C31-E31)/68*(I7-1090),G31+(E31-G31)/91*(I7-999)) -> 431.82353 | J31: =IF(I7>=1090,F31+(D31-F31)/68*(I7-1090),H31+(F31-H31)/91*(I7-999)) -> 743.41176 | K31: =IF(AND(M7>10,M7<=20),I30+(I31-I30)/10*(M7-10),0) -> 0 | L31: =IF(AND(M7>10,M7<=20),J30+(J31-J30)/10*(M7-10),0) -> 0 | S31: 20 | T31: 206 | U31: 456 | V31: =IF(AND(M7>10,M7<=20),T30+(T31-T30)/10*(M7-10),0) -> 0 | W31: =IF(AND(M7>10,M7<=20),U30+(U31-U30)/10*(M7-10),0) -> 0
B32: 30 | C32: 472 | D32: 818 | E32: 407 | F32: 670 | G32: 332 | H32: 565 | I32: =IF(I7>=1090,E32+(C32-E32)/68*(I7-1090),G32+(E32-G32)/91*(I7-999)) -> 464.35294 | J32: =IF(I7>=1090,F32+(D32-F32)/68*(I7-1090),H32+(F32-H32)/91*(I7-999)) -> 800.58824 | K32: =IF(AND(M7>20,M7<=30),I31+(I32-I31)/10*(M7-20),0) -> 0 | L32: =IF(AND(M7>20,M7<=30),J31+(J32-J31)/10*(M7-20),0) -> 0 | S32: 30 | T32: 213 | U32: 468 | V32: =IF(AND(M7>20,M7<=30),T31+(T32-T31)/10*(M7-20),0) -> 0 | W32: =IF(AND(M7>20,M7<=30),U31+(U32-U31)/10*(M7-20),0) -> 0
B33: 40 | C33: 506 | D33: 878 | E33: 436 | F33: 748 | G33: 355 | H33: 602 | I33: =IF(I7>=1090,E33+(C33-E33)/68*(I7-1090),G33+(E33-G33)/91*(I7-999)) -> 497.76471 | J33: =IF(I7>=1090,F33+(D33-F33)/68*(I7-1090),H33+(F33-H33)/91*(I7-999)) -> 862.70588 | K33: =IF(AND(M7>30,M7<=40),I32+(I33-I32)/10*(M7-30),0) -> 0 | L33: =IF(AND(M7>30,M7<=40),J32+(J33-J32)/10*(M7-30),0) -> 0 | S33: 40 | T33: 221 | U33: 479 | V33: =IF(AND(M7>30,M7<=40),T32+(T33-T32)/10*(M7-30),0) -> 0 | W33: =IF(AND(M7>30,M7<=40),U32+(U33-U32)/10*(M7-30),0) -> 0
A34: 5000 | B34: 0 | C34: 413 | D34: 715 | E34: 357 | F34: 614 | G34: 291 | H34: 498 | I34: =IF(I7>=1090,E34+(C34-E34)/68*(I7-1090),G34+(E34-G34)/91*(I7-999)) -> 406.41176 | J34: =IF(I7>=1090,F34+(D34-F34)/68*(I7-1090),H34+(F34-H34)/91*(I7-999)) -> 703.11765 | K34: =IF(M7<=0,I34,0) -> 0 | L34: =IF(M7<=0,J34,0) -> 0 | M34: =SUM(K34:K38) -> 439.82353 | N34: =SUM(L34:L38) -> 762.82353 | R34: 5000 | S34: 0 | T34: 200 | U34: 445 | V34: =IF(M7<=0,T34,0) -> 0 | W34: =IF(M7<=0,U34,0) -> 0 | X34: =SUM(V34:V38) -> 207 | Y34: =SUM(W34:W38) -> 457
B35: 10 | C35: 447 | D35: 776 | E35: 386 | F35: 664 | G35: 314 | H35: 538 | I35: =IF(I7>=1090,E35+(C35-E35)/68*(I7-1090),G35+(E35-G35)/91*(I7-999)) -> 439.82353 | J35: =IF(I7>=1090,F35+(D35-F35)/68*(I7-1090),H35+(F35-H35)/91*(I7-999)) -> 762.82353 | K35: =IF(AND(M7>0,M7<=10),I34+((I35-I34)/10*M7),0) -> 439.82353 | L35: =IF(AND(M7>0,M7<=10),J34+((J35-J34)/10*M7),0) -> 762.82353 | S35: 10 | T35: 207 | U35: 457 | V35: =IF(AND(M7>0,M7<=10),T34+((T35-T34)/10*M7),0) -> 207 | W35: =IF(AND(M7>0,M7<=10),U34+((U35-U34)/10*M7),0) -> 457
B36: 20 | C36: 483 | D36: 840 | E36: 415 | F36: 718 | G36: 338 | H36: 579 | I36: =IF(I7>=1090,E36+(C36-E36)/68*(I7-1090),G36+(E36-G36)/91*(I7-999)) -> 475 | J36: =IF(I7>=1090,F36+(D36-F36)/68*(I7-1090),H36+(F36-H36)/91*(I7-999)) -> 825.64706 | K36: =IF(AND(M7>10,M7<=20),I35+(I36-I35)/10*(M7-10),0) -> 0 | L36: =IF(AND(M7>10,M7<=20),J35+(J36-J35)/10*(M7-10),0) -> 0 | S36: 20 | T36: 215 | U36: 468 | V36: =IF(AND(M7>10,M7<=20),T35+(T36-T35)/10*(M7-10),0) -> 0 | W36: =IF(AND(M7>10,M7<=20),U35+(U36-U35)/10*(M7-10),0) -> 0
B37: 30 | C37: 520 | D37: 907 | E37: 447 | F37: 771 | G37: 364 | H37: 620 | I37: =IF(I7>=1090,E37+(C37-E37)/68*(I7-1090),G37+(E37-G37)/91*(I7-999)) -> 511.41176 | J37: =IF(I7>=1090,F37+(D37-F37)/68*(I7-1090),H37+(F37-H37)/91*(I7-999)) -> 891 | K37: =IF(AND(M7>20,M7<=30),I36+(I37-I36)/10*(M7-20),0) -> 0 | L37: =IF(AND(M7>20,M7<=30),J36+(J37-J36)/10*(M7-20),0) -> 0 | S37: 30 | T37: 221 | U37: 480 | V37: =IF(AND(M7>20,M7<=30),T36+(T37-T36)/10*(M7-20),0) -> 0 | W37: =IF(AND(M7>20,M7<=30),U36+(U37-U36)/10*(M7-20),0) -> 0
B38: 40 | C38: 556 | D38: 977 | E38: 479 | F38: 828 | G38: 389 | H38: 663 | I38: =IF(I7>=1090,E38+(C38-E38)/68*(I7-1090),G38+(E38-G38)/91*(I7-999)) -> 546.94118 | J38: =IF(I7>=1090,F38+(D38-F38)/68*(I7-1090),H38+(F38-H38)/91*(I7-999)) -> 959.47059 | K38: =IF(AND(M7>30,M7<=40),I37+(I38-I37)/10*(M7-30),0) -> 0 | L38: =IF(AND(M7>30,M7<=40),J37+(J38-J37)/10*(M7-30),0) -> 0 | S38: 40 | T38: 229 | U38: 492 | V38: =IF(AND(M7>30,M7<=40),T37+(T38-T37)/10*(M7-30),0) -> 0 | W38: =IF(AND(M7>30,M7<=40),U37+(U38-U37)/10*(M7-30),0) -> 0
A39: 6000 | B39: 0 | C39: 456 | D39: 794 | E39: 392 | F39: 680 | G39: 320 | H39: 549 | I39: =IF(I7>=1090,E39+(C39-E39)/68*(I7-1090),G39+(E39-G39)/91*(I7-999)) -> 448.47059 | J39: =IF(I7>=1090,F39+(D39-F39)/68*(I7-1090),H39+(F39-H39)/91*(I7-999)) -> 780.58824 | K39: =IF(M7<=0,I39,0) -> 0 | L39: =IF(M7<=0,J39,0) -> 0 | M39: =SUM(K39:K43) -> 484 | N39: =SUM(L39:L43) -> 847.94118 | R39: 6000 | S39: 0 | T39: 207 | U39: 457 | V39: =IF(M7<=0,T39,0) -> 0 | W39: =IF(M7<=0,U39,0) -> 0 | X39: =SUM(V39:V43) -> 215 | Y39: =SUM(W39:W43) -> 469
B40: 10 | C40: 492 | D40: 863 | E40: 424 | F40: 735 | G40: 344 | H40: 591 | I40: =IF(I7>=1090,E40+(C40-E40)/68*(I7-1090),G40+(E40-G40)/91*(I7-999)) -> 484 | J40: =IF(I7>=1090,F40+(D40-F40)/68*(I7-1090),H40+(F40-H40)/91*(I7-999)) -> 847.94118 | K40: =IF(AND(M7>0,M7<=10),I39+((I40-I39)/10*M7),0) -> 484 | L40: =IF(AND(M7>0,M7<=10),J39+((J40-J39)/10*M7),0) -> 847.94118 | O40: Calcul intermédiaire | S40: 10 | T40: 215 | U40: 469 | V40: =IF(AND(M7>0,M7<=10),T39+((T40-T39)/10*M7),0) -> 215 | W40: =IF(AND(M7>0,M7<=10),U39+((U40-U39)/10*M7),0) -> 469 | Z40: Calcul intermédiaire
B41: 20 | C41: 532 | D41: 937 | E41: 457 | F41: 796 | G41: 372 | H41: 637 | I41: =IF(I7>=1090,E41+(C41-E41)/68*(I7-1090),G41+(E41-G41)/91*(I7-999)) -> 523.17647 | J41: =IF(I7>=1090,F41+(D41-F41)/68*(I7-1090),H41+(F41-H41)/91*(I7-999)) -> 920.41176 | K41: =IF(AND(M7>10,M7<=20),I40+(I41-I40)/10*(M7-10),0) -> 0 | L41: =IF(AND(M7>10,M7<=20),J40+(J41-J40)/10*(M7-10),0) -> 0 | S41: 20 | T41: 223 | U41: 482 | V41: =IF(AND(M7>10,M7<=20),T40+(T41-T40)/10*(M7-10),0) -> 0 | W41: =IF(AND(M7>10,M7<=20),U40+(U41-U40)/10*(M7-10),0) -> 0
B42: 30 | C42: 572 | D42: 1012 | E42: 491 | F42: 855 | G42: 399 | H42: 683 | I42: =IF(I7>=1090,E42+(C42-E42)/68*(I7-1090),G42+(E42-G42)/91*(I7-999)) -> 562.47059 | J42: =IF(I7>=1090,F42+(D42-F42)/68*(I7-1090),H42+(F42-H42)/91*(I7-999)) -> 993.52941 | K42: =IF(AND(M7>20,M7<=30),I41+(I42-I41)/10*(M7-20),0) -> 0 | L42: =IF(AND(M7>20,M7<=30),J41+(J42-J41)/10*(M7-20),0) -> 0 | O42: =IF($O$7<=0,M9,IF(AND($O$7>0,$O$7<1000),(M9+($O$7*(M14-M9)/1000)),IF($O$7=1000,M14,IF(AND($O$7>1000,$O$7<2000),(M14+(($O$7-1000)*(M19-M14)/1000)),IF($O$7=2000,M19,IF(AND($O$7>2000,$O$7<3000),(M19+(($O$7-2000)*(M24-M19)/1000)),IF($O$7=3000,M24,IF(AND($O$7>3000,$O$7<4000),(M24+(($O$7-3000)*(M29-M24)/1000)),IF($O$7=4000,M29,0))))))))) -> 277.52941 | P42: =IF(O7<=0,N9,IF(AND(O7>0,O7<=1000),(N9+(O7*(N14-N9)/1000)),IF(AND(O7>1000,O7<=2000),(N14+((O7-1000)*(N19-N14)/1000)),IF(AND(O7>2000,O7<=3000),(N19+((O7-2000)*(N24-N19)/1000)),IF(AND(O7>3000,O7<=4000),(N24+((O7-3000)*(N29-N24)/1000)),0))))) -> 472.70588 | S42: 30 | T42: 230 | U42: 494 | V42: =IF(AND(M7>20,M7<=30),T41+(T42-T41)/10*(M7-20),0) -> 0 | W42: =IF(AND(M7>20,M7<=30),U41+(U42-U41)/10*(M7-20),0) -> 0 | Z42: =IF($O$7<=0,X9,IF(AND($O$7>0,$O$7<1000),(X9+($O$7*(X14-X9)/1000)),IF($O$7=1000,X14,IF(AND($O$7>1000,$O$7<2000),(X14+(($O$7-1000)*(X19-X14)/1000)),IF($O$7=2000,X19,IF(AND($O$7>2000,$O$7<3000),(X19+(($O$7-2000)*(X24-X19)/1000)),IF($O$7=3000,X24,IF(AND($O$7>3000,$O$7<4000),(X24+(($O$7-3000)*(X29-X24)/1000)),IF($O$7=4000,X29,0))))))))) -> 172 | AA42: =IF(Z7<=0,Y9,IF(AND(Z7>0,Z7<=1000),(Y9+(Z7*(Y14-Y9)/1000)),IF(AND(Z7>1000,Z7<=2000),(Y14+((Z7-1000)*(Y19-Y14)/1000)),IF(AND(Z7>2000,Z7<=3000),(Y19+((Z7-2000)*(Y24-Y19)/1000)),IF(AND(Z7>3000,Z7<=4000),(Y24+((Z7-3000)*(Y29-Y24)/1000)),0))))) -> 402
...

Sheet Perfos C182T F-HFBD
A1: F-HFBD | F1: Performances décollage et atterrissage Cessna 182T
A3: 1. Renseigner les cases vertes 2. Lire les performances | G3: Attention, ce fichier n'est pas fourni par le constructeur. Il ne doit pas être le seul outil de préparation des performances de votre vol. Référez-vous au manuel de vol de l'avion afin de vérifier systématiquement les performances calculées.
A5: Altitude aérodrome (ft QNH) | B5: QNH | C5: Altitude pression (ft) | E5: Masse avion (kg)
A6: 0 | B6: 1013 | C6: =((1013-B6)*(IF(A6<3000,28,30))+A6) -> 0 | E6: 1338
C7: =IF(C6>8000,"Dépassement altitude ! (Max=8000ft)","zp max = 8000ftSi<0 : calcul fait avec 0ft") -> zp max = 8000ftSi<0 : calcul fait avec 0ft | E7: =IF(E6<=1406,"Maxi T/O 1406 Kg Maxi LND 1338 Kg","Masse maxi dépassée") -> Maxi T/O 1406 Kg Maxi LND 1338 Kg | G7: Décollage | I7: Atterrissage
A8: Température (°C) | B8: ISA (°C) | C8: ΔISA (°C) | G8: Volets 20° | I8: Masse 1338 Kg - volets FULL- Vi 60 Kt
A9: 10 | B9: =15+(($C$6/1000)*(-2)) -> 15 | C9: =A9-B9 -> -5 | G9: 2400 RPM avant lâcher de freins, volets de capot ouverts, piste sèche et de niveau | I9: freinage maximum, piste sèche et de niveau. Si att. volets 0 - Vi+10 Kts distances + 40%
G10: Performances brutes de décollage | I10: Performances brutes d'atterrissage
A11: Sens du vent [menu déroulant] | B11: Vitesse du vent (kt) Composante face ou arrière | C11: Type de piste [menu déroulant] | E11: Nb : les corrections pour pistes mouillées et pistes en pente ne sont pas données par le manuel de vol. | G11: Distance de roulement (m) | H11: Distance de décollage (m) (passage 50ft) | I11: Distance de roulement (m) | J11: Distance d'atterrissage (m) (passage 50ft)
A12: Face | B12: 0 | C12: Dure | G12: =IFERROR('Calculs C182T'!AE10,"ALT or TEMP out of range!") -> 209.69735 | H12: =IFERROR('Calculs C182T'!AF10,"ALT or TEMP out of range!") -> 399.77635 | I12: =IFERROR('Calculs C182T'!AG10,"ALT or TEMP out of range!") -> 176.784 | J12: =IFERROR('Calculs C182T'!AH10,"ALT or TEMP out of range!") -> 406.908
C13: Piste sèche | G13: Pour un décollage volets UP ou 10° augmenter ces valeurs de 25% environ
A14: Performances brutes = celles données par le manuel de vol. Elles correspondent à un avion neuf et réalisées par un pilote d'essai dans des conditions différentes de notre utilisation normale. | G14: Performances de décollage factorisées (+30%) | I14: Performances d'atterrissage factorisées (+30%)
A15: Il est conseillé de factoriser ces valeurs pour plus de sécurité. Au pilote de décider. Le tableau ci-contre majore les distances de 30% au décollage et de 30% sur le roulage à l'atterrissage. | G15: =G12*1.3 -> 272.60655 | H15: =H12*1.3 -> 519.70926 | I15: =I12*1.3 -> 229.8192 | J15: =J12*1.3 -> 528.9804
H16: Comparer à TODA | J16: Comparer à LDA
G17: Prendre connaissance du Manuel de Vol: Normal Procedures / Amplified Normal Procedures / Take Off / Wing Flap Setting

Sheet Calculs C182T
A1: F-HFBD
A4: Performances de décollage | S4: Performances d'atterrissage
AE5: Prise en compte du vent et type de piste
C6: Masse (Kg) | E6: Masse (Kg) | G6: Masse (Kg) | I6: Masse du jour (Kg) | M6: Température du jour | O6: Field Pressure Alt (ft) | T6: Masse (Kg) | V6: Calcul intermédiaire | Z6: Field Pressure Alt (ft)
A7: Altitude Pression (ft) | B7: T° (°C) | C7: 1406 | E7: 1225 | G7: 1043 | I7: ='Perfos C182T F-HFBD'!E6 -> 1338 | M7: ='Perfos C182T F-HFBD'!A9 -> 10 | O7: =IF('Perfos C182T F-HFBD'!C6<0,0,'Perfos C182T F-HFBD'!C6) -> 0 | R7: Altitude Pression (ft) | S7: T° (°C) | T7: 1338 | Z7: =IF('Perfos C182T F-HFBD'!C6<0,0,'Perfos C182T F-HFBD'!C6) -> 0 | AE7: Performances brutes de décollage | AG7: Performances brutes d'atterrissage
C8: Distance de roulement (ft) | D8: Distance de décollage (ft) (passage 50ft) | E8: Distance de roulement (ft) | F8: Distance de décollage (ft) (passage 50ft) | G8: Distance de roulement (ft) | H8: Distance de décollage (ft) (passage 50ft) | I8: Distance de roulement (ft) | J8: Distance de décollage (ft) (passage 50ft) | K8: Calcul intermédiaire | M8: Distance de roulement (ft) | N8: Distance de décollage (ft) (passage 50ft) | O8: Distance de roulement (m) | P8: Distance de décollage (m) (passage 50ft) | T8: Distance de roulement (ft) | U8: Distance d'atterrissage (ft) (passage 50ft) | V8: Distance de roulement (ft) | W8: Distance d'atterrissage (ft) (passage 50ft) | X8: Distance de roulement (ft) | Y8: Distance de décollage (ft) (passage 50ft) | Z8: Distance de roulement (m) | AA8: Distance d'atterrissage (m) (passage 50ft) | AE8: Distance de roulement (m) | AF8: Distance de décollage (m) (passage 50ft) | AG8: Distance de roulement (m) | AH8: Distance d'atterrissage (m) (passage 50ft)
A9: 0 | B9: 0 | C9: 715 | D9: 1365 | E9: 520 | F9: 995 | G9: 365 | H9: 705 | I9: =IF(I7>=1225,E9+(C9-E9)/181*(I7-1225),G9+(E9-G9)/182*(I7-1043)) -> 641.74033 | J9: =IF(I7>=1225,F9+(D9-F9)/181*(I7-1225),H9+(F9-H9)/182*(I7-1043)) -> 1225.9945 | K9: =IF(M7<=0,I9,0) -> 0 | L9: =IF(M7<=0,J9,0) -> 0 | M9: =SUM(K9:K13) -> 687.98343 | N9: =SUM(L9:L13) -> 1311.6022 | O9: =(O42+O44)*0.3048 -> 209.69735 | P9: =(P42+P44)*0.3048 -> 399.77635 | R9: 0 | S9: 0 | T9: 560 | U9: 1300 | V9: =IF(M7<=0,T9,0) -> 0 | W9: =IF(M7<=0,U9,0) -> 0 | X9: =SUM(V9:V13) -> 580 | Y9: =SUM(W9:W13) -> 1335 | Z9: =(Z42+Z44)*0.3048 -> 176.784 | AA9: =(AA42+AA44)*0.3048 -> 406.908 | AD9: Vent | AE9: =IF('Perfos C182T F-HFBD'!A12="Face",(1-('Perfos C182T F-HFBD'!B12/90))*'Calculs C182T'!O9,IF('Perfos C182T F-HFBD'!A12="Arrière",(1+('Perfos C182T F-HFBD'!B12/20))*'Calculs C182T'!O9)) -> 209.69735 | AF9: =IF('Perfos C182T F-HFBD'!A12="Face",(1-('Perfos C182T F-HFBD'!B12/90))*'Calculs C182T'!P9,IF('Perfos C182T F-HFBD'!A12="Arrière",(1+('Perfos C182T F-HFBD'!B12/20))*'Calculs C182T'!P9)) -> 399.77635 | AG9: =IF('Perfos C182T F-HFBD'!A12="Face",(1-('Perfos C182T F-HFBD'!B12/90))*'Calculs C182T'!Z9,IF('Perfos C182T F-HFBD'!A12="Arrière",(1+('Perfos C182T F-HFBD'!B12/20))*'Calculs C182T'!Z9)) -> 176.784 | AH9: =IF('Perfos C182T F-HFBD'!A12="Face",(1-('Perfos C182T F-HFBD'!B12/90))*'Calculs C182T'!AA9,IF('Perfos C182T F-HFBD'!A12="Arrière",(1+('Perfos C182T F-HFBD'!B12/20))*'Calculs C182T'!AA9)) -> 406.908
B10: 10 | C10: 765 | D10: 1460 | E10: 560 | F10: 1065 | G10: 390 | H10: 750 | I10: =IF(I7>=1225,E10+(C10-E10)/181*(I7-1225),G10+(E10-G10)/182*(I7-1043)) -> 687.98343 | J10: =IF(I7>=1225,F10+(D10-F10)/181*(I7-1225),H10+(F10-H10)/182*(I7-1043)) -> 1311.6022 | K10: =IF(AND(M7>0,M7<=10),I9+((I10-I9)/10*M7),0) -> 687.98343 | L10: =IF(AND(M7>0,M7<=10),J9+((J10-J9)/10*M7),0) -> 1311.6022 | S10: 10 | T10: 580 | U10: 1335 | V10: =IF(AND(M7>0,M7<=10),T9+((T10-T9)/10*M7),0) -> 580 | W10: =IF(AND(M7>0,M7<=10),U9+((U10-U9)/10*M7),0) -> 1335 | AD10: Type piste | AE10: =IF('Perfos C182T F-HFBD'!C12="Dure",AE9,AE9*1.15) -> 209.69735 | AF10: =(AE10+(AF9-AE9)) -> 399.77635 | AG10: =IF('Perfos C182T F-HFBD'!C12="Dure",AG9,AG9*1.45) -> 176.784 | AH10: =(AG10+(AH9-AG9)) -> 406.908
B11: 20 | C11: 825 | D11: 1570 | E11: 600 | F11: 1135 | G11: 420 | H11: 800 | I11: =IF(I7>=1225,E11+(C11-E11)/181*(I7-1225),G11+(E11-G11)/182*(I7-1043)) -> 740.46961 | J11: =IF(I7>=1225,F11+(D11-F11)/181*(I7-1225),H11+(F11-H11)/182*(I7-1043)) -> 1406.5746 | K11: =IF(AND(M7>10,M7<=20),I10+(I11-I10)/10*(M7-10),0) -> 0 | L11: =IF(AND(M7>10,M7<=20),J10+(J11-J10)/10*(M7-10),0) -> 0 | S11: 20 | T11: 600 | U11: 1365 | V11: =IF(AND(M7>10,M7<=20),T10+(T11-T10)/10*(M7-10),0) -> 0 | W11: =IF(AND(M7>10,M7<=20),U10+(U11-U10)/10*(M7-10),0) -> 0
B12: 30 | C12: 885 | D12: 1680 | E12: 645 | F12: 1215 | G12: 450 | H12: 850 | I12: =IF(I7>=1225,E12+(C12-E12)/181*(I7-1225),G12+(E12-G12)/182*(I7-1043)) -> 794.83425 | J12: =IF(I7>=1225,F12+(D12-F12)/181*(I7-1225),H12+(F12-H12)/182*(I7-1043)) -> 1505.3039 | K12: =IF(AND(M7>20,M7<=30),I11+(I12-I11)/10*(M7-20),0) -> 0 | L12: =IF(AND(M7>20,M7<=30),J11+(J12-J11)/10*(M7-20),0) -> 0 | S12: 30 | T12: 620 | U12: 1400 | V12: =IF(AND(M7>20,M7<=30),T11+(T12-T11)/10*(M7-20),0) -> 0 | W12: =IF(AND(M7>20,M7<=30),U11+(U12-U11)/10*(M7-20),0) -> 0
B13: 40 | C13: 945 | D13: 1800 | E13: 690 | F13: 1295 | G13: 480 | H13: 905 | I13: =IF(I7>=1225,E13+(C13-E13)/181*(I7-1225),G13+(E13-G13)/182*(I7-1043)) -> 849.1989 | J13: =IF(I7>=1225,F13+(D13-F13)/181*(I7-1225),H13+(F13-H13)/182*(I7-1043)) -> 1610.2762 | K13: =IF(AND(M7>30,M7<=40),I12+(I13-I12)/10*(M7-30),0) -> 0 | L13: =IF(AND(M7>30,M7<=40),J12+(J13-J12)/10*(M7-30),0) -> 0 | S13: 40 | T13: 640 | U13: 1435 | V13: =IF(AND(M7>30,M7<=40),T12+(T13-T12)/10*(M7-30),0) -> 0 | W13: =IF(AND(M7>30,M7<=40),U12+(U13-U12)/10*(M7-30),0) -> 0
A14: 1000 | B14: 0 | C14: 775 | D14: 1490 | E14: 565 | F14: 1080 | G14: 395 | H14: 765 | I14: =IF(I7>=1225,E14+(C14-E14)/181*(I7-1225),G14+(E14-G14)/182*(I7-1043)) -> 696.10497 | J14: =IF(I7>=1225,F14+(D14-F14)/181*(I7-1225),H14+(F14-H14)/182*(I7-1043)) -> 1335.9669 | K14: =IF(M7<=0,I14,0) -> 0 | L14: =IF(M7<=0,J14,0) -> 0 | M14: =SUM(K14:K18) -> 750.46961 | N14: =SUM(L14:L18) -> 1432.8177 | R14: 1000 | S14: 0 | T14: 580 | U14: 1330 | V14: =IF(M7<=0,T14,0) -> 0 | W14: =IF(M7<=0,U14,0) -> 0 | X14: =SUM(V14:V18) -> 600 | Y14: =SUM(W14:W18) -> 1365
B15: 10 | C15: 835 | D15: 1600 | E15: 610 | F15: 1155 | G15: 425 | H15: 815 | I15: =IF(I7>=1225,E15+(C15-E15)/181*(I7-1225),G15+(E15-G15)/182*(I7-1043)) -> 750.46961 | J15: =IF(I7>=1225,F15+(D15-F15)/181*(I7-1225),H15+(F15-H15)/182*(I7-1043)) -> 1432.8177 | K15: =IF(AND(M7>0,M7<=10),I14+((I15-I14)/10*M7),0) -> 750.46961 | L15: =IF(AND(M7>0,M7<=10),J14+((J15-J14)/10*M7),0) -> 1432.8177 | S15: 10 | T15: 600 | U15: 1365 | V15: =IF(AND(M7>0,M7<=10),T14+((T15-T14)/10*M7),0) -> 600 | W15: =IF(AND(M7>0,M7<=10),U14+((U15-U14)/10*M7),0) -> 1365
B16: 20 | C16: 900 | D16: 1720 | E16: 655 | F16: 1235 | G16: 455 | H16: 870 | I16: =IF(I7>=1225,E16+(C16-E16)/181*(I7-1225),G16+(E16-G16)/182*(I7-1043)) -> 807.9558 | J16: =IF(I7>=1225,F16+(D16-F16)/181*(I7-1225),H16+(F16-H16)/182*(I7-1043)) -> 1537.7901 | K16: =IF(AND(M7>10,M7<=20),I15+(I16-I15)/10*(M7-10),0) -> 0 | L16: =IF(AND(M7>10,M7<=20),J15+(J16-J15)/10*(M7-10),0) -> 0 | S16: 20 | T16: 620 | U16: 1400 | V16: =IF(AND(M7>10,M7<=20),T15+(T16-T15)/10*(M7-10),0) -> 0 | W16: =IF(AND(M7>10,M7<=20),U15+(U16-U15)/10*(M7-10),0) -> 0
B17: 30 | C17: 965 | D17: 1845 | E17: 700 | F17: 1320 | G17: 490 | H17: 925 | I17: =IF(I7>=1225,E17+(C17-E17)/181*(I7-1225),G17+(E17-G17)/182*(I7-1043)) -> 865.44199 | J17: =IF(I7>=1225,F17+(D17-F17)/181*(I7-1225),H17+(F17-H17)/182*(I7-1043)) -> 1647.7624 | K17: =IF(AND(M7>20,M7<=30),I16+(I17-I16)/10*(M7-20),0) -> 0 | L17: =IF(AND(M7>20,M7<=30),J16+(J17-J16)/10*(M7-20),0) -> 0 | S17: 30 | T17: 645 | U17: 1440 | V17: =IF(AND(M7>20,M7<=30),T16+(T17-T16)/10*(M7-20),0) -> 0 | W17: =IF(AND(M7>20,M7<=30),U16+(U17-U16)/10*(M7-20),0) -> 0
B18: 40 | C18: 1030 | D18: 1980 | E18: 750 | F18: 1410 | G18: 520 | H18: 985 | I18: =IF(I7>=1225,E18+(C18-E18)/181*(I7-1225),G18+(E18-G18)/182*(I7-1043)) -> 924.80663 | J18: =IF(I7>=1225,F18+(D18-F18)/181*(I7-1225),H18+(F18-H18)/182*(I7-1043)) -> 1765.8564 | K18: =IF(AND(M7>30,M7<=40),I17+(I18-I17)/10*(M7-30),0) -> 0 | L18: =IF(AND(M7>30,M7<=40),J17+(J18-J17)/10*(M7-30),0) -> 0 | S18: 40 | T18: 665 | U18: 1475 | V18: =IF(AND(M7>30,M7<=40),T17+(T18-T17)/10*(M7-30),0) -> 0 | W18: =IF(AND(M7>30,M7<=40),U17+(U18-U17)/10*(M7-30),0) -> 0
A19: 2000 | B19: 0 | C19: 850 | D19: 1635 | E19: 615 | F19: 1180 | G19: 430 | H19: 830 | I19: =IF(I7>=1225,E19+(C19-E19)/181*(I7-1225),G19+(E19-G19)/182*(I7-1043)) -> 761.71271 | J19: =IF(I7>=1225,F19+(D19-F19)/181*(I7-1225),H19+(F19-H19)/182*(I7-1043)) -> 1464.0608 | K19: =IF(M7<=0,I19,0) -> 0 | L19: =IF(M7<=0,J19,0) -> 0 | M19: =SUM(K19:K23) -> 821.07735 | N19: =SUM(L19:L23) -> 1572.1547 | R19: 2000 | S19: 0 | T19: 600 | U19: 1370 | V19: =IF(M7<=0,T19,0) -> 0 | W19: =IF(M7<=0,U19,0) -> 0 | X19: =SUM(V19:V23) -> 625 | Y19: =SUM(W19:W23) -> 1405
B20: 10 | C20: 915 | D20: 1760 | E20: 665 | F20: 1260 | G20: 460 | H20: 885 | I20: =IF(I7>=1225,E20+(C20-E20)/181*(I7-1225),G20+(E20-G20)/182*(I7-1043)) -> 821.07735 | J20: =IF(I7>=1225,F20+(D20-F20)/181*(I7-1225),H20+(F20-H20)/182*(I7-1043)) -> 1572.1547 | K20: =IF(AND(M7>0,M7<=10),I19+((I20-I19)/10*M7),0) -> 821.07735 | L20: =IF(AND(M7>0,M7<=10),J19+((J20-J19)/10*M7),0) -> 1572.1547 | S20: 10 | T20: 625 | U20: 1405 | V20: =IF(AND(M7>0,M7<=10),T19+((T20-T19)/10*M7),0) -> 625 | W20: =IF(AND(M7>0,M7<=10),U19+((U20-U19)/10*M7),0) -> 1405
B21: 20 | C21: 980 | D21: 1890 | E21: 710 | F21: 1350 | G21: 495 | H21: 940 | I21: =IF(I7>=1225,E21+(C21-E21)/181*(I7-1225),G21+(E21-G21)/182*(I7-1043)) -> 878.56354 | J21: =IF(I7>=1225,F21+(D21-F21)/181*(I7-1225),H21+(F21-H21)/182*(I7-1043)) -> 1687.1271 | K21: =IF(AND(M7>10,M7<=20),I20+(I21-I20)/10*(M7-10),0) -> 0 | L21: =IF(AND(M7>10,M7<=20),J20+(J21-J20)/10*(M7-10),0) -> 0 | S21: 20 | T21: 645 | U21: 1440 | V21: =IF(AND(M7>10,M7<=20),T20+(T21-T20)/10*(M7-10),0) -> 0 | W21: =IF(AND(M7>10,M7<=20),U20+(U21-U20)/10*(M7-10),0) -> 0
B22: 30 | C22: 1055 | D22: 2035 | E22: 765 | F22: 1445 | G22: 530 | H22: 1005 | I22: =IF(I7>=1225,E22+(C22-E22)/181*(I7-1225),G22+(E22-G22)/182*(I7-1043)) -> 946.04972 | J22: =IF(I7>=1225,F22+(D22-F22)/181*(I7-1225),H22+(F22-H22)/182*(I7-1043)) -> 1813.3425 | K22: =IF(AND(M7>20,M7<=30),I21+(I22-I21)/10*(M7-20),0) -> 0 | L22: =IF(AND(M7>20,M7<=30),J21+(J22-J21)/10*(M7-20),0) -> 0 | S22: 30 | T22: 670 | U22: 1480 | V22: =IF(AND(M7>20,M7<=30),T21+(T22-T21)/10*(M7-20),0) -> 0 | W22: =IF(AND(M7>20,M7<=30),U21+(U22-U21)/10*(M7-20),0) -> 0
B23: 40 | C23: 1130 | D23: 2190 | E23: 820 | F23: 1545 | G23: 565 | H23: 1070 | I23: =IF(I7>=1225,E23+(C23-E23)/181*(I7-1225),G23+(E23-G23)/182*(I7-1043)) -> 1013.5359 | J23: =IF(I7>=1225,F23+(D23-F23)/181*(I7-1225),H23+(F23-H23)/182*(I7-1043)) -> 1947.6796 | K23: =IF(AND(M7>30,M7<=40),I22+(I23-I22)/10*(M7-30),0) -> 0 | L23: =IF(AND(M7>30,M7<=40),J22+(J23-J22)/10*(M7-30),0) -> 0 | S23: 40 | T23: 690 | U23: 1515 | V23: =IF(AND(M7>30,M7<=40),T22+(T23-T22)/10*(M7-30),0) -> 0 | W23: =IF(AND(M7>30,M7<=40),U22+(U23-U22)/10*(M7-30),0) -> 0
A24: 3000 | B24: 0 | C24: 925 | D24: 1800 | E24: 675 | F24: 1285 | G24: 470 | H24: 900 | I24: =IF(I7>=1225,E24+(C24-E24)/181*(I7-1225),G24+(E24-G24)/182*(I7-1043)) -> 831.07735 | J24: =IF(I7>=1225,F24+(D24-F24)/181*(I7-1225),H24+(F24-H24)/182*(I7-1043)) -> 1606.5193 | K24: =IF(M7<=0,I24,0) -> 0 | L24: =IF(M7<=0,J24,0) -> 0 | M24: =SUM(K24:K28) -> 893.56354 | N24: =SUM(L24:L28) -> 1729.6133 | R24: 3000 | S24: 0 | T24: 625 | U24: 1410 | V24: =IF(M7<=0,T24,0) -> 0 | W24: =IF(M7<=0,U24,0) -> 0 | X24: =SUM(V24:V28) -> 645 | Y24: =SUM(W24:W28) -> 1445
B25: 10 | C25: 995 | D25: 1940 | E25: 725 | F25: 1380 | G25: 505 | H25: 960 | I25: =IF(I7>=1225,E25+(C25-E25)/181*(I7-1225),G25+(E25-G25)/182*(I7-1043)) -> 893.56354 | J25: =IF(I7>=1225,F25+(D25-F25)/181*(I7-1225),H25+(F25-H25)/182*(I7-1043)) -> 1729.6133 | K25: =IF(AND(M7>0,M7<=10),I24+((I25-I24)/10*M7),0) -> 893.56354 | L25: =IF(AND(M7>0,M7<=10),J24+((J25-J24)/10*M7),0) -> 1729.6133 | S25: 10 | T25: 645 | U25: 1445 | V25: =IF(AND(M7>0,M7<=10),T24+((T25-T24)/10*M7),0) -> 645 | W25: =IF(AND(M7>0,M7<=10),U24+((U25-U24)/10*M7),0) -> 1445
B26: 20 | C26: 1070 | D26: 2090 | E26: 775 | F26: 1480 | G26: 540 | H26: 1025 | I26: =IF(I7>=1225,E26+(C26-E26)/181*(I7-1225),G26+(E26-G26)/182*(I7-1043)) -> 959.17127 | J26: =IF(I7>=1225,F26+(D26-F26)/181*(I7-1225),H26+(F26-H26)/182*(I7-1043)) -> 1860.8287 | K26: =IF(AND(M7>10,M7<=20),I25+(I26-I25)/10*(M7-10),0) -> 0 | L26: =IF(AND(M7>10,M7<=20),J25+(J26-J25)/10*(M7-10),0) -> 0 | S26: 20 | T26: 670 | U26: 1485 | V26: =IF(AND(M7>10,M7<=20),T25+(T26-T25)/10*(M7-10),0) -> 0 | W26: =IF(AND(M7>10,M7<=20),U25+(U26-U25)/10*(M7-10),0) -> 0
B27: 30 | C27: 1150 | D27: 2255 | E27: 835 | F27: 1585 | G27: 580 | H27: 1090 | I27: =IF(I7>=1225,E27+(C27-E27)/181*(I7-1225),G27+(E27-G27)/182*(I7-1043)) -> 1031.6575 | J27: =IF(I7>=1225,F27+(D27-F27)/181*(I7-1225),H27+(F27-H27)/182*(I7-1043)) -> 2003.2873 | K27: =IF(AND(M7>20,M7<=30),I26+(I27-I26)/10*(M7-20),0) -> 0 | L27: =IF(AND(M7>20,M7<=30),J26+(J27-J26)/10*(M7-20),0) -> 0 | S27: 30 | T27: 695 | U27: 1525 | V27: =IF(AND(M7>20,M7<=30),T26+(T27-T26)/10*(M7-20),0) -> 0 | W27: =IF(AND(M7>20,M7<=30),U26+(U27-U26)/10*(M7-20),0) -> 0
B28: 40 | C28: 1235 | D28: 2435 | E28: 895 | F28: 1695 | G28: 620 | H28: 1165 | I28: =IF(I7>=1225,E28+(C28-E28)/181*(I7-1225),G28+(E28-G28)/182*(I7-1043)) -> 1107.2652 | J28: =IF(I7>=1225,F28+(D28-F28)/181*(I7-1225),H28+(F28-H28)/182*(I7-1043)) -> 2156.989 | K28: =IF(AND(M7>30,M7<=40),I27+(I28-I27)/10*(M7-30),0) -> 0 | L28: =IF(AND(M7>30,M7<=40),J27+(J28-J27)/10*(M7-30),0) -> 0 | S28: 40 | T28: 715 | U28: 1560 | V28: =IF(AND(M7>30,M7<=40),T27+(T28-T27)/10*(M7-30),0) -> 0 | W28: =IF(AND(M7>30,M7<=40),U27+(U28-U27)/10*(M7-30),0) -> 0
A29: 4000 | B29: 0 | C29: 1015 | D29: 1990 | E29: 735 | F29: 1410 | G29: 510 | H29: 980 | I29: =IF(I7>=1225,E29+(C29-E29)/181*(I7-1225),G29+(E29-G29)/182*(I7-1043)) -> 909.80663 | J29: =IF(I7>=1225,F29+(D29-F29)/181*(I7-1225),H29+(F29-H29)/182*(I7-1043)) -> 1772.0994 | K29: =IF(M7<=0,I29,0) -> 0 | L29: =IF(M7<=0,J29,0) -> 0 | M29: =SUM(K29:K33) -> 977.29282 | N29: =SUM(L29:L33) -> 1909.558 | R29: 4000 | S29: 0 | T29: 650 | U29: 1450 | V29: =IF(M7<=0,T29,0) -> 0 | W29: =IF(M7<=0,U29,0) -> 0 | X29: =SUM(V29:V33) -> 670 | Y29: =SUM(W29:W33) -> 1485
B30: 10 | C30: 1090 | D30: 2150 | E30: 790 | F30: 1510 | G30: 550 | H30: 1045 | I30: =IF(I7>=1225,E30+(C30-E30)/181*(I7-1225),G30+(E30-G30)/182*(I7-1043)) -> 977.29282 | J30: =IF(I7>=1225,F30+(D30-F30)/181*(I7-1225),H30+(F30-H30)/182*(I7-1043)) -> 1909.558 | K30: =IF(AND(M7>0,M7<=10),I29+((I30-I29)/10*M7),0) -> 977.29282 | L30: =IF(AND(M7>0,M7<=10),J29+((J30-J29)/10*M7),0) -> 1909.558 | S30: 10 | T30: 670 | U30: 1485 | V30: =IF(AND(M7>0,M7<=10),T29+((T30-T29)/10*M7),0) -> 670 | W30: =IF(AND(M7>0,M7<=10),U29+((U30-U29)/10*M7),0) -> 1485
B31: 20 | C31: 1175 | D31: 2325 | E31: 850 | F31: 1625 | G31: 590 | H31: 1115 | I31: =IF(I7>=1225,E31+(C31-E31)/181*(I7-1225),G31+(E31-G31)/182*(I7-1043)) -> 1052.9006 | J31: =IF(I7>=1225,F31+(D31-F31)/181*(I7-1225),H31+(F31-H31)/182*(I7-1043)) -> 2062.0166 | K31: =IF(AND(M7>10,M7<=20),I30+(I31-I30)/10*(M7-10),0) -> 0 | L31: =IF(AND(M7>10,M7<=20),J30+(J31-J30)/10*(M7-10),0) -> 0 | S31: 20 | T31: 695 | U31: 1525 | V31: =IF(AND(M7>10,M7<=20),T30+(T31-T30)/10*(M7-10),0) -> 0 | W31: =IF(AND(M7>10,M7<=20),U30+(U31-U30)/10*(M7-10),0) -> 0
B32: 30 | C32: 1260 | D32: 2515 | E32: 910 | F32: 1740 | G32: 630 | H32: 1190 | I32: =IF(I7>=1225,E32+(C32-E32)/181*(I7-1225),G32+(E32-G32)/182*(I7-1043)) -> 1128.5083 | J32: =IF(I7>=1225,F32+(D32-F32)/181*(I7-1225),H32+(F32-H32)/182*(I7-1043)) -> 2223.8398 | K32: =IF(AND(M7>20,M7<=30),I31+(I32-I31)/10*(M7-20),0) -> 0 | L32: =IF(AND(M7>20,M7<=30),J31+(J32-J31)/10*(M7-20),0) -> 0 | S32: 30 | T32: 720 | U32: 1565 | V32: =IF(AND(M7>20,M7<=30),T31+(T32-T31)/10*(M7-20),0) -> 0 | W32: =IF(AND(M7>20,M7<=30),U31+(U32-U31)/10*(M7-20),0) -> 0
B33: 40 | C33: 1355 | D33: 2720 | E33: 975 | F33: 1870 | G33: 675 | H33: 1270 | I33: =IF(I7>=1225,E33+(C33-E33)/181*(I7-1225),G33+(E33-G33)/182*(I7-1043)) -> 1212.2376 | J33: =IF(I7>=1225,F33+(D33-F33)/181*(I7-1225),H33+(F33-H33)/182*(I7-1043)) -> 2400.663 | K33: =IF(AND(M7>30,M7<=40),I32+(I33-I32)/10*(M7-30),0) -> 0 | L33: =IF(AND(M7>30,M7<=40),J32+(J33-J32)/10*(M7-30),0) -> 0 | S33: 40 | T33: 740 | U33: 1600 | V33: =IF(AND(M7>30,M7<=40),T32+(T33-T32)/10*(M7-30),0) -> 0 | W33: =IF(AND(M7>30,M7<=40),U32+(U33-U32)/10*(M7-30),0) -> 0
A34: 5000 | B34: 0 | C34: 1110 | D34: 2210 | E34: 805 | F34: 1550 | G34: 555 | H34: 1065 | I34: =IF(I7>=1225,E34+(C34-E34)/181*(I7-1225),G34+(E34-G34)/182*(I7-1043)) -> 995.41436 | J34: =IF(I7>=1225,F34+(D34-F34)/181*(I7-1225),H34+(F34-H34)/182*(I7-1043)) -> 1962.0442 | K34: =IF(M7<=0,I34,0) -> 0 | L34: =IF(M7<=0,J34,0) -> 0 | M34: =SUM(K34:K38) -> 1071.0221 | N34: =SUM(L34:L38) -> 2120.7459 | R34: 5000 | S34: 0 | T34: 670 | U34: 1485 | V34: =IF(M7<=0,T34,0) -> 0 | W34: =IF(M7<=0,U34,0) -> 0 | X34: =SUM(V34:V38) -> 695 | Y34: =SUM(W34:W38) -> 1525
B35: 10 | C35: 1195 | D35: 2395 | E35: 865 | F35: 1665 | G35: 600 | H35: 1140 | I35: =IF(I7>=1225,E35+(C35-E35)/181*(I7-1225),G35+(E35-G35)/182*(I7-1043)) -> 1071.0221 | J35: =IF(I7>=1225,F35+(D35-F35)/181*(I7-1225),H35+(F35-H35)/182*(I7-1043)) -> 2120.7459 | K35: =IF(AND(M7>0,M7<=10),I34+((I35-I34)/10*M7),0) -> 1071.0221 | L35: =IF(AND(M7>0,M7<=10),J34+((J35-J34)/10*M7),0) -> 2120.7459 | S35: 10 | T35: 695 | U35: 1525 | V35: =IF(AND(M7>0,M7<=10),T34+((T35-T34)/10*M7),0) -> 695 | W35: =IF(AND(M7>0,M7<=10),U34+((U35-U34)/10*M7),0) -> 1525
B36: 20 | C36: 1290 | D36: 2595 | E36: 930 | F36: 1790 | G36: 640 | H36: 1220 | I36: =IF(I7>=1225,E36+(C36-E36)/181*(I7-1225),G36+(E36-G36)/182*(I7-1043)) -> 1154.7514 | J36: =IF(I7>=1225,F36+(D36-F36)/181*(I7-1225),H36+(F36-H36)/182*(I7-1043)) -> 2292.5691 | K36: =IF(AND(M7>10,M7<=20),I35+(I36-I35)/10*(M7-10),0) -> 0 | L36: =IF(AND(M7>10,M7<=20),J35+(J36-J35)/10*(M7-10),0) -> 0 | S36: 20 | T36: 720 | U36: 1565 | V36: =IF(AND(M7>10,M7<=20),T35+(T36-T35)/10*(M7-10),0) -> 0 | W36: =IF(AND(M7>10,M7<=20),U35+(U36-U35)/10*(M7-10),0) -> 0
B37: 30 | C37: 1385 | D37: 2820 | E37: 1000 | F37: 1920 | G37: 690 | H37: 1305 | I37: =IF(I7>=1225,E37+(C37-E37)/181*(I7-1225),G37+(E37-G37)/182*(I7-1043)) -> 1240.3591 | J37: =IF(I7>=1225,F37+(D37-F37)/181*(I7-1225),H37+(F37-H37)/182*(I7-1043)) -> 2481.8785 | K37: =IF(AND(M7>20,M7<=30),I36+(I37-I36)/10*(M7-20),0) -> 0 | L37: =IF(AND(M7>20,M7<=30),J36+(J37-J36)/10*(M7-20),0) -> 0 | S37: 30 | T37: 745 | U37: 1610 | V37: =IF(AND(M7>20,M7<=30),T36+(T37-T36)/10*(M7-20),0) -> 0 | W37: =IF(AND(M7>20,M7<=30),U36+(U37-U36)/10*(M7-20),0) -> 0
B38: 40 | C38: 1485 | D38: 3070 | E38: 1070 | F38: 2065 | G38: 735 | H38: 1390 | I38: =IF(I7>=1225,E38+(C38-E38)/181*(I7-1225),G38+(E38-G38)/182*(I7-1043)) -> 1329.0884 | J38: =IF(I7>=1225,F38+(D38-F38)/181*(I7-1225),H38+(F38-H38)/182*(I7-1043)) -> 2692.4309 | K38: =IF(AND(M7>30,M7<=40),I37+(I38-I37)/10*(M7-30),0) -> 0 | L38: =IF(AND(M7>30,M7<=40),J37+(J38-J37)/10*(M7-30),0) -> 0 | S38: 40 | T38: 770 | U38: 1650 | V38: =IF(AND(M7>30,M7<=40),T37+(T38-T37)/10*(M7-30),0) -> 0 | W38: =IF(AND(M7>30,M7<=40),U37+(U38-U37)/10*(M7-30),0) -> 0
A39: 6000 | B39: 0 | C39: 1220 | D39: 2470 | E39: 880 | F39: 1705 | G39: 610 | H39: 1165 | I39: =IF(I7>=1225,E39+(C39-E39)/181*(I7-1225),G39+(E39-G39)/182*(I7-1043)) -> 1092.2652 | J39: =IF(I7>=1225,F39+(D39-F39)/181*(I7-1225),H39+(F39-H39)/182*(I7-1043)) -> 2182.5967 | K39: =IF(M7<=0,I39,0) -> 0 | L39: =IF(M7<=0,J39,0) -> 0 | M39: =SUM(K39:K43) -> 1177.8729 | N39: =SUM(L39:L43) -> 2370.663 | R39: 6000 | S39: 0 | T39: 700 | U39: 1530 | V39: =IF(M7<=0,T39,0) -> 0 | W39: =IF(M7<=0,U39,0) -> 0 | X39: =SUM(V39:V43) -> 725 | Y39: =SUM(W39:W43) -> 1575
B40: 10 | C40: 1315 | D40: 2690 | E40: 950 | F40: 1840 | G40: 655 | H40: 1250 | I40: =IF(I7>=1225,E40+(C40-E40)/181*(I7-1225),G40+(E40-G40)/182*(I7-1043)) -> 1177.8729 | J40: =IF(I7>=1225,F40+(D40-F40)/181*(I7-1225),H40+(F40-H40)/182*(I7-1043)) -> 2370.663 | K40: =IF(AND(M7>0,M7<=10),I39+((I40-I39)/10*M7),0) -> 1177.8729 | L40: =IF(AND(M7>0,M7<=10),J39+((J40-J39)/10*M7),0) -> 2370.663 | O40: Calcul intermédiaire | S40: 10 | T40: 725 | U40: 1575 | V40: =IF(AND(M7>0,M7<=10),T39+((T40-T39)/10*M7),0) -> 725 | W40: =IF(AND(M7>0,M7<=10),U39+((U40-U39)/10*M7),0) -> 1575 | Z40: Calcul intermédiaire
B41: 20 | C41: 1415 | D41: 2930 | E41: 1020 | F41: 1980 | G41: 700 | H41: 1335 | I41: =IF(I7>=1225,E41+(C41-E41)/181*(I7-1225),G41+(E41-G41)/182*(I7-1043)) -> 1266.6022 | J41: =IF(I7>=1225,F41+(D41-F41)/181*(I7-1225),H41+(F41-H41)/182*(I7-1043)) -> 2573.0939 | K41: =IF(AND(M7>10,M7<=20),I40+(I41-I40)/10*(M7-10),0) -> 0 | L41: =IF(AND(M7>10,M7<=20),J40+(J41-J40)/10*(M7-10),0) -> 0 | S41: 20 | T41: 750 | U41: 1615 | V41: =IF(AND(M7>10,M7<=20),T40+(T41-T40)/10*(M7-10),0) -> 0 | W41: =IF(AND(M7>10,M7<=20),U40+(U41-U40)/10*(M7-10),0) -> 0
B42: 30 | C42: 1520 | D42: 3200 | E42: 1095 | F42: 2135 | G42: 755 | H42: 1430 | I42: =IF(I7>=1225,E42+(C42-E42)/181*(I7-1225),G42+(E42-G42)/182*(I7-1043)) -> 1360.3315 | J42: =IF(I7>=1225,F42+(D42-F42)/181*(I7-1225),H42+(F42-H42)/182*(I7-1043)) -> 2799.8895 | K42: =IF(AND(M7>20,M7<=30),I41+(I42-I41)/10*(M7-20),0) -> 0 | L42: =IF(AND(M7>20,M7<=30),J41+(J42-J41)/10*(M7-20),0) -> 0 | O42: =IF($O$7<=0,M9,IF(AND($O$7>0,$O$7<1000),(M9+($O$7*(M14-M9)/1000)),IF($O$7=1000,M14,IF(AND($O$7>1000,$O$7<2000),(M14+(($O$7-1000)*(M19-M14)/1000)),IF($O$7=2000,M19,IF(AND($O$7>2000,$O$7<3000),(M19+(($O$7-2000)*(M24-M19)/1000)),IF($O$7=3000,M24,IF(AND($O$7>3000,$O$7<4000),(M24+(($O$7-3000)*(M29-M24)/1000)),IF($O$7=4000,M29,0))))))))) -> 687.98343 | P42: =IF(O7<=0,N9,IF(AND(O7>0,O7<=1000),(N9+(O7*(N14-N9)/1000)),IF(AND(O7>1000,O7<=2000),(N14+((O7-1000)*(N19-N14)/1000)),IF(AND(O7>2000,O7<=3000),(N19+((O7-2000)*(N24-N19)/1000)),IF(AND(O7>3000,O7<=4000),(N24+((O7-3000)*(N29-N24)/1000)),0))))) -> 1311.6022 | S42: 30 | T42: 775 | U42: 1660 | V42: =IF(AND(M7>20,M7<=30),T41+(T42-T41)/10*(M7-20),0) -> 0 | W42: =IF(AND(M7>20,M7<=30),U41+(U42-U41)/10*(M7-20),0) -> 0 | Z42: =IF($O$7<=0,X9,IF(AND($O$7>0,$O$7<1000),(X9+($O$7*(X14-X9)/1000)),IF($O$7=1000,X14,IF(AND($O$7>1000,$O$7<2000),(X14+(($O$7-1000)*(X19-X14)/1000)),IF($O$7=2000,X19,IF(AND($O$7>2000,$O$7<3000),(X19+(($O$7-2000)*(X24-X19)/1000)),IF($O$7=3000,X24,IF(AND($O$7>3000,$O$7<4000),(X24+(($O$7-3000)*(X29-X24)/1000)),IF($O$7=4000,X29,0))))))))) -> 580 | AA42: =IF(Z7<=0,Y9,IF(AND(Z7>0,Z7<=1000),(Y9+(Z7*(Y14-Y9)/1000)),IF(AND(Z7>1000,Z7<=2000),(Y14+((Z7-1000)*(Y19-Y14)/1000)),IF(AND(Z7>2000,Z7<=3000),(Y19+((Z7-2000)*(Y24-Y19)/1000)),IF(AND(Z7>3000,Z7<=4000),(Y24+((Z7-3000)*(Y29-Y24)/1000)),0))))) -> 1335
...
